BEGIN:VCALENDAR
PRODID:NingEventWidget-v1
VERSION:2.0
METHOD:PUBLISH
BEGIN:VTIMEZONE
TZID:Pacific/Midway
X-LIC-LOCATION:Pacific/Midway
BEGIN:STANDARD
TZOFFSETFROM:-1100
TZOFFSETTO:-1100
TZNAME:SST
DTSTART:19700101T000000
END:STANDARD
END:VTIMEZONE
BEGIN:VEVENT
UID:5072275:Event:1043390
DTSTAMP:20260424T100157Z
SUMMARY:($1 Hot Dog Night) S.E.C.A. Crate Late Model
DESCRIPTION:Super Stock, S.E.C.A. Crate Sportsman, Renegade, Extreme 4
 , Vintage, Pure Stock V8\n\nFor more information visit https://www.sou
 theastwheelsevents.com/events/1-hot-dog-night-s-e-c-a-crate-late-model
DTSTART;TZID=Pacific/Midway:20170617T000000
DTEND;TZID=Pacific/Midway:20170617T235900
CATEGORIES:race
LOCATION:Lancaster Speedway
WEBSITE:http://www.lancastersuperspeedway.com/
URL:http://www.lancastersuperspeedway.com/
CONTACT:803-285-1877
ORGANIZER:
ATTACH;FMTTYPE="image/jpeg":http://storage.ning.com/topology/rest/1.0/
 file/get/967744628?profile=original
ATTENDEE;ROLE=REQ-PARTICIPANT;PARTSTAT=ACCEPTED;RSVP=TRUE;CN="Christop
 her Gosney":https://www.southeastwheelsevents.com/profile/ChristopherG
 osney
END:VEVENT
END:VCALENDAR
