BEGIN:VCALENDAR
PRODID:NingEventWidget-v1
VERSION:2.0
METHOD:PUBLISH
BEGIN:VTIMEZONE
TZID:Pacific/Midway
X-LIC-LOCATION:Pacific/Midway
BEGIN:STANDARD
TZOFFSETFROM:-1100
TZOFFSETTO:-1100
TZNAME:SST
DTSTART:19700101T000000
END:STANDARD
END:VTIMEZONE
BEGIN:VEVENT
UID:5072275:Event:1180211
DTSTAMP:20260424T061857Z
SUMMARY:10th Annual Antique and Classic Car Show - Beaufort, Sc
DESCRIPTION:10th  Annual   Antique   and Classic    Car  Show
    at Habersham  Marketplace\n\nFor more information visit https://
 www.southeastwheelsevents.com/events/10th-annual-antique-and-classic-c
 ar-show-beaufort-sc
DTSTART;TZID=Pacific/Midway:20191111T100000
DTEND;TZID=Pacific/Midway:20191111T140000
CATEGORIES:car, show, cruise-in
LOCATION:Habersham Marketplace,
WEBSITE:http://classicsofbeaufort.org
URL:http://classicsofbeaufort.org
CONTACT:617-513-3898
ORGANIZER:Dwayne Pingston, Dan Silva
ATTACH;FMTTYPE="image/jpeg":https://storage.ning.com/topology/rest/1.0
 /file/get/3703737622?profile=original
ATTENDEE;ROLE=REQ-PARTICIPANT;PARTSTAT=ACCEPTED;RSVP=TRUE;CN="Anthony 
 Hopkins":https://www.southeastwheelsevents.com/profile/AnthonyHopkins
END:VEVENT
END:VCALENDAR
