BEGIN:VCALENDAR
PRODID:NingEventWidget-v1
VERSION:2.0
METHOD:PUBLISH
BEGIN:VTIMEZONE
TZID:Pacific/Midway
X-LIC-LOCATION:Pacific/Midway
BEGIN:STANDARD
TZOFFSETFROM:-1100
TZOFFSETTO:-1100
TZNAME:SST
DTSTART:19700101T000000
END:STANDARD
END:VTIMEZONE
BEGIN:VEVENT
UID:5072275:Event:779233
DTSTAMP:20260421T222837Z
SUMMARY:10th Annual Car Show and Fund Raiser -Milledgeville, GA
DESCRIPTION:Car Show,\nThe Morris-Little American Legion will hold the
  10th Annual Car Show in conjunction with our Fund Raiser on Saturday 
 May 10, 2014. Registration will begin at 9:00 amd till 12:00 NOON. Cos
 t to register is $25.00. Awards include TOP45 including, Commander Awa
 rd, Best Pre-WWII, Best Car, Best Truck, Best Motorcycle, Best Interio
 r, Best Engine, Best Paint, and Club Participation. For more informati
 on call Commander John Griffin at 478-457-7717 or the Post at 478-453-
 0108.\nHope to see you All Saturday May 10, at 9:00 am.   \n\nFor 
 more information visit https://www.southeastwheelsevents.com/events/10
 th-annual-car-show-and-fund-raiser
DTSTART;TZID=Pacific/Midway:20140510T090000
DTEND;TZID=Pacific/Midway:20140510T150000
CATEGORIES:fundraiser, "car show"
LOCATION:231 Log Cabine Road NE, Milledgeville, GA 31061
WEBSITE:
URL:
CONTACT:478-457-7717 Cell, 478-453-0108 Post
ORGANIZER;CN="John W Griffin":https://www.southeastwheelsevents.com/pr
 ofile/JohnWGriffin
ATTACH;FMTTYPE="image/jpeg":http://storage.ning.com/topology/rest/1.0/
 file/get/967660777?profile=original
ATTENDEE;ROLE=REQ-PARTICIPANT;PARTSTAT=ACCEPTED;RSVP=TRUE;CN="John W G
 riffin":https://www.southeastwheelsevents.com/profile/JohnWGriffin
END:VEVENT
END:VCALENDAR
