BEGIN:VCALENDAR
PRODID:NingEventWidget-v1
VERSION:2.0
METHOD:PUBLISH
BEGIN:VTIMEZONE
TZID:Pacific/Midway
X-LIC-LOCATION:Pacific/Midway
BEGIN:STANDARD
TZOFFSETFROM:-1100
TZOFFSETTO:-1100
TZNAME:SST
DTSTART:19700101T000000
END:STANDARD
END:VTIMEZONE
BEGIN:VEVENT
UID:5072275:Event:1083126
DTSTAMP:20260423T180208Z
SUMMARY:10th Annual Cody Renfore Rod Ru- Crosville, AL
DESCRIPTION:10th Annual Cody Renfore Rod Run\n\nFor more information v
 isit https://www.southeastwheelsevents.com/events/10th-annual-cody-ren
 fore-rod-ru-crosville-al
DTSTART;TZID=Pacific/Midway:20180512T160000
DTEND;TZID=Pacific/Midway:20180512T200000
CATEGORIES:renfore, rod, run
LOCATION:Crossville City park
WEBSITE:
URL:
CONTACT:(256)302-3637, (256)659-8352 &amp; (256)537-0879
ORGANIZER:stanice Gray, Rickey Gray &amp; Kavin Renfore
ATTACH;FMTTYPE="image/jpeg":http://storage.ning.com/topology/rest/1.0/
 file/get/967766782?profile=original
ATTENDEE;ROLE=REQ-PARTICIPANT;PARTSTAT=ACCEPTED;RSVP=TRUE;CN="Anthony 
 Hopkins":https://www.southeastwheelsevents.com/profile/AnthonyHopkins
END:VEVENT
END:VCALENDAR
