BEGIN:VCALENDAR
PRODID:NingEventWidget-v1
VERSION:2.0
METHOD:PUBLISH
BEGIN:VTIMEZONE
TZID:Pacific/Midway
X-LIC-LOCATION:Pacific/Midway
BEGIN:STANDARD
TZOFFSETFROM:-1100
TZOFFSETTO:-1100
TZNAME:SST
DTSTART:19700101T000000
END:STANDARD
END:VTIMEZONE
BEGIN:VEVENT
UID:5072275:Event:624035
DTSTAMP:20260423T140827Z
SUMMARY:10th Annual Flowery Branch Car Show and Chili Cook Off Plus th
 e 6th Annual Bugs at the Branch VW Show -Flowery Branch, GA
DESCRIPTION:10th Annual Flowery Branch Car Show & Chili Cookoff\nPLUS 
 6th Annual Bugs at the Branch\nSaturday September 14th, 2013\n10am to 
 4pm\nRain Date: Saturday September 21th, 2013\n \nBiggest Little Car 
 Show and Chili Cookoff in Georgia!\nClassic Car Show , All Makes & Mod
 els Welcome, Current Year to Model T\n Volkswagen Show, Water Cooled 
 & Air Cooled Models Welcome, \nCurrent Year & Older\n  $20 Entry Fee
  for Car Show Contestants\n$100 Each for Best in Show, Classic and VW\
 n$100 for Best Tasting Chili 1st Place\n$50 for Best Tasting Chili JR 
 Division\nGames and Prizes for ALL Contestants\nCome join us for a tru
 ly unique Car Show & Chili Cookoff experience!\nFUN FOR THE WHOLE FAMI
 LY!\nClassic & VW Car Show/Chili Contestant Info contact Steve Soucie 
 at\n770-967-2934 or ssoucie1@charter.net\nVendor(DO NOT NEED ANY FOOD
  VENDORS) and Sponsorship Info contact Charlotte Cornett\nat 678-698-1
 387 or charlottecornett@aat.net.\nSPONSORED BY CITY OF FLOWERY BRANCH
 \n \n \n\nFor more information visit https://www.southeastwheelseven
 ts.com/events/10th-annual-flowery-branch-car-show-and-chili-cook-off-p
 lus-the
DTSTART;TZID=Pacific/Midway:20130914T100000
DTEND;TZID=Pacific/Midway:20130914T160000
CATEGORIES:classic, and, vw, car, show, chili, cook, off
LOCATION:Main St Flowery Branch GA
WEBSITE:http://www.flowerybranchga.org
URL:http://www.flowerybranchga.org
CONTACT:770-967-2934
ORGANIZER;CN="Steve Soucie":https://www.southeastwheelsevents.com/prof
 ile/SteveSoucie
ATTACH;FMTTYPE="image/jpeg":
ATTENDEE;ROLE=REQ-PARTICIPANT;PARTSTAT=ACCEPTED;RSVP=TRUE;CN="Dale Nic
 holson":https://www.southeastwheelsevents.com/profile/DaleNicholson
ATTENDEE;ROLE=REQ-PARTICIPANT;PARTSTAT=ACCEPTED;RSVP=TRUE;CN="Dan Blac
 k":https://www.southeastwheelsevents.com/profile/DanBlack
ATTENDEE;ROLE=REQ-PARTICIPANT;PARTSTAT=ACCEPTED;RSVP=TRUE;CN="Michael 
 Thies":https://www.southeastwheelsevents.com/profile/MichaelThies
ATTENDEE;ROLE=REQ-PARTICIPANT;PARTSTAT=ACCEPTED;RSVP=TRUE;CN="Steve So
 ucie":https://www.southeastwheelsevents.com/profile/SteveSoucie
ATTENDEE;ROLE=REQ-PARTICIPANT;PARTSTAT=ACCEPTED;RSVP=TRUE;CN="Speed Po
 wer Passion":https://www.southeastwheelsevents.com/profile/SpeedPowerP
 assion
ATTENDEE;ROLE=REQ-PARTICIPANT;PARTSTAT=TENTATIVE;RSVP=TRUE;CN="Lenny  
    Major":https://www.southeastwheelsevents.com/profile/LennyMajor
ATTENDEE;ROLE=REQ-PARTICIPANT;PARTSTAT=TENTATIVE;RSVP=TRUE;CN="Rodney 
 Wallin":https://www.southeastwheelsevents.com/profile/Rodneywallin
ATTENDEE;ROLE=REQ-PARTICIPANT;PARTSTAT=TENTATIVE;RSVP=TRUE;CN="Bill mu
 sarra":https://www.southeastwheelsevents.com/profile/billmusarra
END:VEVENT
END:VCALENDAR
