BEGIN:VCALENDAR
PRODID:NingEventWidget-v1
VERSION:2.0
METHOD:PUBLISH
BEGIN:VTIMEZONE
TZID:Pacific/Midway
X-LIC-LOCATION:Pacific/Midway
BEGIN:STANDARD
TZOFFSETFROM:-1100
TZOFFSETTO:-1100
TZNAME:SST
DTSTART:19700101T000000
END:STANDARD
END:VTIMEZONE
BEGIN:VEVENT
UID:5072275:Event:1141381
DTSTAMP:20260423T162705Z
SUMMARY:10th Annual Heart of Georgia VCCA Open Swap Meet and Car Corra
 l - Marietta, Ga
DESCRIPTION:10th Annual Heart of Georgia VCCA Open Swap Meet & Car Cor
 ral at J.R. Miller Park.\n\nFor more information visit https://www.sou
 theastwheelsevents.com/events/10th-annual-heart-of-georgia-vcca-open-s
 wap-meet-and-car-corral
DTSTART;TZID=Pacific/Midway:20190223T080000
DTEND;TZID=Pacific/Midway:20190223T150000
CATEGORIES:car, show, cruise, in
LOCATION:J.R. Miller Park,
WEBSITE:https://www.google.com/maps/place/Jim+Miller+Park/@33.8998564,
 -84.5933854,17z/data=!3m1!4b1!4m5!3m4!1s0x88f517ca211ded97:0xa79b6d144
 9c47230!8m2!3d33.8998564!4d-84.5911967
URL:https://www.google.com/maps/place/Jim+Miller+Park/@33.8998564,-84.
 5933854,17z/data=!3m1!4b1!4m5!3m4!1s0x88f517ca211ded97:0xa79b6d1449c47
 230!8m2!3d33.8998564!4d-84.5911967
CONTACT:(678) 313-8897, (770) 992-8801
ORGANIZER:Lewis Colin, Jim Gebhardt
ATTACH;FMTTYPE="image/jpeg":
ATTENDEE;ROLE=REQ-PARTICIPANT;PARTSTAT=ACCEPTED;RSVP=TRUE;CN="Anthony 
 Hopkins":https://www.southeastwheelsevents.com/profile/AnthonyHopkins
END:VEVENT
END:VCALENDAR
