BEGIN:VCALENDAR
PRODID:NingEventWidget-v1
VERSION:2.0
METHOD:PUBLISH
BEGIN:VTIMEZONE
TZID:Pacific/Midway
X-LIC-LOCATION:Pacific/Midway
BEGIN:STANDARD
TZOFFSETFROM:-1100
TZOFFSETTO:-1100
TZNAME:SST
DTSTART:19700101T000000
END:STANDARD
END:VTIMEZONE
BEGIN:VEVENT
UID:5072275:Event:524845
DTSTAMP:20260419T223812Z
SUMMARY:10th Annual Holley Hot Rod Reunion -Bowling Green, KY
DESCRIPTION:Holley NHRA National Hot Rod Reunion\nBeechbend Raceway\nB
 owling Green, Kentucky\nhttp://museum.nhra.com/apcm/templates/general.
 asp?articleid=676&zoneid=41&navsource=reunions\n\nFor more information
  visit https://www.southeastwheelsevents.com/events/10th-annual-holley
 -hot-rod-reunion
DTSTART;TZID=Pacific/Midway:20120614T000000
DTEND;TZID=Pacific/Midway:20120616T235900
CATEGORIES:car, show, nostalgia, drag, raceing
LOCATION:Beech Bend Raceway
WEBSITE:http://www.google.com/maps?q=beech+bend+raceway+bowling+green,
 +ky&hl=en&sll=37.0625,-95.677068&sspn=34.724817,86.572266&t=h&hq=beech
 +bend+raceway&hnear=Bowling+Green,+Warren,+Kentucky&z=12
URL:http://www.google.com/maps?q=beech+bend+raceway+bowling+green,+ky&
 hl=en&sll=37.0625,-95.677068&sspn=34.724817,86.572266&t=h&hq=beech+ben
 d+raceway&hnear=Bowling+Green,+Warren,+Kentucky&z=12
CONTACT:
ORGANIZER;CN="Henry Priest":https://www.southeastwheelsevents.com/prof
 ile/HenryPriest
ATTACH;FMTTYPE="image/jpeg":
ATTENDEE;ROLE=REQ-PARTICIPANT;PARTSTAT=ACCEPTED;RSVP=TRUE;CN="Henry Pr
 iest":https://www.southeastwheelsevents.com/profile/HenryPriest
ATTENDEE;ROLE=REQ-PARTICIPANT;PARTSTAT=TENTATIVE;RSVP=TRUE;CN="Michael
  Thies":https://www.southeastwheelsevents.com/profile/MichaelThies
END:VEVENT
END:VCALENDAR
