BEGIN:VCALENDAR
PRODID:NingEventWidget-v1
VERSION:2.0
METHOD:PUBLISH
BEGIN:VTIMEZONE
TZID:Pacific/Midway
X-LIC-LOCATION:Pacific/Midway
BEGIN:STANDARD
TZOFFSETFROM:-1100
TZOFFSETTO:-1100
TZNAME:SST
DTSTART:19700101T000000
END:STANDARD
END:VTIMEZONE
BEGIN:VEVENT
UID:5072275:Event:1078364
DTSTAMP:20260424T120241Z
SUMMARY:10th Annual NMRA NMCA All Star Nationals Car Show -Commerce, G
 A
DESCRIPTION:\r\n\r\nApril 7th-8th, 2018 at 8am t0 6pm – Atlanta Drag
 way HUGE All Domestic Car Show Saturday and Sunday, Awards and Door Pr
 izes both days. NMCA and NMRA.\r\n\r\nEntry fees:\r\n\r\n\r\n\r\nSatur
 day and Sunday Car Show\r\n$45\r\n\r\n\r\nSaturday Only (1 Day Car Sho
 w)\r\n$25\r\n\r\n\r\nSunday Only (1 Day Car Show)\r\n$25\r\n\r\n\r\n\r
 \nKids 12 and under - Free\r\n\n\nFor more information visit https://w
 ww.southeastwheelsevents.com/events/10th-annual-nmra-nmca-all-star-nat
 ionals-car-show-day-1-hosted-by
DTSTART;TZID=Pacific/Midway:20180407T080000
DTEND;TZID=Pacific/Midway:20180407T180000
CATEGORIES:car, show
LOCATION:Atlanta Dragway
WEBSITE:http://www.nmradigital.com/dl/2018/2018-nmraga-carshow.pdf
URL:http://www.nmradigital.com/dl/2018/2018-nmraga-carshow.pdf
CONTACT:
ORGANIZER:NMRA/NMCA/UMMC
ATTACH;FMTTYPE="image/jpeg":http://storage.ning.com/topology/rest/1.0/
 file/get/967765518?profile=original
ATTENDEE;ROLE=REQ-PARTICIPANT;PARTSTAT=ACCEPTED;RSVP=TRUE;CN=Zoutlawss
 :https://www.southeastwheelsevents.com/profile/billybaumgartner
ATTENDEE;ROLE=REQ-PARTICIPANT;PARTSTAT=ACCEPTED;RSVP=TRUE;CN="James Ar
 wood":https://www.southeastwheelsevents.com/profile/JamesArwood
ATTENDEE;ROLE=REQ-PARTICIPANT;PARTSTAT=ACCEPTED;RSVP=TRUE;CN="Forrest 
 Mahannah":https://www.southeastwheelsevents.com/profile/ForrestMahanna
 h
ATTENDEE;ROLE=REQ-PARTICIPANT;PARTSTAT=ACCEPTED;RSVP=TRUE;CN="Lebaron 
 Grove":https://www.southeastwheelsevents.com/profile/LebaronGrove
END:VEVENT
END:VCALENDAR
