BEGIN:VCALENDAR
PRODID:NingEventWidget-v1
VERSION:2.0
METHOD:PUBLISH
BEGIN:VTIMEZONE
TZID:Pacific/Midway
X-LIC-LOCATION:Pacific/Midway
BEGIN:STANDARD
TZOFFSETFROM:-1100
TZOFFSETTO:-1100
TZNAME:SST
DTSTART:19700101T000000
END:STANDARD
END:VTIMEZONE
BEGIN:VEVENT
UID:5072275:Event:928862
DTSTAMP:20260422T231523Z
SUMMARY:10th Annual Tara Mustang Club Mustang & All Ford Show at Summi
 t Racing Equipment, McDonough, Ga.
DESCRIPTION:Classes for all Mustangs and Ford Powered Vehicles.  Modi
 fied MCA judging rules.  Registration $25.00.  Door prizes provided 
 by Summit Racing Equipment.  A portion of proceeds donated to the Geo
 rgia Baptist Children's Home in Palmetto, Ga. Appearance by the Wood B
 rother's Motorcraft/Quick Lane #21 Nascar Ford Fusion.  Rain date Sun
 day, Sept. 13, 2015, same times. Registration form can be downloaded a
 t www.taramustangclub.org.  Further info: contact Bob Mathews, 770-78
 7-9427.\n\nFor more information visit https://www.southeastwheelsevent
 s.com/events/10th-annual-tara-mustang-club-mustang-all-ford-show-at-su
 mmit
DTSTART;TZID=Pacific/Midway:20150912T100000
DTEND;TZID=Pacific/Midway:20150912T150000
CATEGORIES:mustang, "&", ford, car, show
LOCATION:Summit Racing Equipment
WEBSITE:http://www.taramustangclub.org
URL:http://www.taramustangclub.org
CONTACT:770-787-9427
ORGANIZER;CN="Bob Mathews":https://www.southeastwheelsevents.com/profi
 le/BobMathews
ATTACH;FMTTYPE="image/jpeg":http://storage.ning.com/topology/rest/1.0/
 file/get/967695497?profile=original
ATTENDEE;ROLE=REQ-PARTICIPANT;PARTSTAT=ACCEPTED;RSVP=TRUE;CN="Bill Dav
 is":https://www.southeastwheelsevents.com/profile/BillDavis
ATTENDEE;ROLE=REQ-PARTICIPANT;PARTSTAT=ACCEPTED;RSVP=TRUE;CN="Chuck Aa
 ron":https://www.southeastwheelsevents.com/profile/ChuckAaron
ATTENDEE;ROLE=REQ-PARTICIPANT;PARTSTAT=ACCEPTED;RSVP=TRUE;CN="Bob Math
 ews":https://www.southeastwheelsevents.com/profile/BobMathews
END:VEVENT
END:VCALENDAR
