BEGIN:VCALENDAR
PRODID:NingEventWidget-v1
VERSION:2.0
METHOD:PUBLISH
BEGIN:VTIMEZONE
TZID:Pacific/Midway
X-LIC-LOCATION:Pacific/Midway
BEGIN:STANDARD
TZOFFSETFROM:-1100
TZOFFSETTO:-1100
TZNAME:SST
DTSTART:19700101T000000
END:STANDARD
END:VTIMEZONE
BEGIN:VEVENT
UID:5072275:Event:1109965
DTSTAMP:20260421T035442Z
SUMMARY:10th Annual Taste of Autumn Chili Cook Off and Cruise In - Win
 chester, Tn
DESCRIPTION:10th Annual Taste of Autumn Chili Cook Off and Cruise In D
 owntown.\n\nFor more information visit https://www.southeastwheelseven
 ts.com/events/10th-annual-taste-of-autumn-chili-cook-off-and-cruise-in
DTSTART;TZID=Pacific/Midway:20181027T100000
DTEND;TZID=Pacific/Midway:20181027T170000
CATEGORIES:car, show, cruise, in
LOCATION:Winchester, Tn
WEBSITE:
URL:
CONTACT:(931) 636-1670
ORGANIZER:Donna Pickett
ATTACH;FMTTYPE="image/jpeg":http://storage.ning.com/topology/rest/1.0/
 file/get/967804281?profile=original
ATTENDEE;ROLE=REQ-PARTICIPANT;PARTSTAT=ACCEPTED;RSVP=TRUE;CN="Anthony 
 Hopkins":https://www.southeastwheelsevents.com/profile/AnthonyHopkins
END:VEVENT
END:VCALENDAR
