BEGIN:VCALENDAR
PRODID:NingEventWidget-v1
VERSION:2.0
METHOD:PUBLISH
BEGIN:VTIMEZONE
TZID:Pacific/Midway
X-LIC-LOCATION:Pacific/Midway
BEGIN:STANDARD
TZOFFSETFROM:-1100
TZOFFSETTO:-1100
TZNAME:SST
DTSTART:19700101T000000
END:STANDARD
END:VTIMEZONE
BEGIN:VEVENT
UID:5072275:Event:82627
DTSTAMP:20260420T064433Z
SUMMARY:11th Annual Fall Line Festival and Car, Truck & Motorcycle Sho
 w - Gordon, GA
DESCRIPTION:Saturday October 2, 2010— Best Of and Top 45. Registrati
 on Fee $20.00. For more information contact John Griffin at 478-453-02
 95. Best of Show, Best Car, Best Truck, Best Motorcycle, Best Paint, B
 est Interior, Best Engine, Club Participation Award $50.00 for Best Cl
 ub Participating (Old Capital Car Club is not eligible for this award)
  & Top 45. (48 Awards) For more information contact John W. Griffin at
  478-453-0295 or email: oldcapitalcar@aol.com This Event is sponsored 
 by Better Home Town Gordon and hosted by Old Capital Car Club.\n\nFor 
 more information visit https://www.southeastwheelsevents.com/events/11
 th-annual-fall-line-festival-1
DTSTART;TZID=Pacific/Midway:20101002T090000
DTEND;TZID=Pacific/Midway:20101002T160000
CATEGORIES:car, and, bike, show
LOCATION:Location has changed. Now on Highway 243 across from the Amer
 ican Legion Post 101.
WEBSITE:http://www.oldcapitalcarclub.org
URL:http://www.oldcapitalcarclub.org
CONTACT:John W. Griffin  478-453-0295 or email: oldcapitalcar@aol.com
ORGANIZER:Old Capital Car Club.
ATTACH;FMTTYPE="image/jpeg":http://storage.ning.com/topology/rest/1.0/
 file/get/967585209?profile=original
ATTENDEE;ROLE=REQ-PARTICIPANT;PARTSTAT=ACCEPTED;RSVP=TRUE;CN="Doctor S
 tig":https://www.southeastwheelsevents.com/profile/DoctorStig
END:VEVENT
END:VCALENDAR
