BEGIN:VCALENDAR
PRODID:NingEventWidget-v1
VERSION:2.0
METHOD:PUBLISH
BEGIN:VTIMEZONE
TZID:Pacific/Midway
X-LIC-LOCATION:Pacific/Midway
BEGIN:STANDARD
TZOFFSETFROM:-1100
TZOFFSETTO:-1100
TZNAME:SST
DTSTART:19700101T000000
END:STANDARD
END:VTIMEZONE
BEGIN:VEVENT
UID:5072275:Event:687091
DTSTAMP:20260422T183956Z
SUMMARY:11th ANNUAL LODGE #131 F&AM CAR SHOW -Lawrenceviile, GA
DESCRIPTION:11th Annual Lawrenceville Lodge #131 Car Show..\nPre-regis
 ter $15.00 entry fee--$20.00 day of the show.\nTrophies and $100.00 Be
 st of Show and $75.00 Peoples Choice.\n\nFor more information visit ht
 tps://www.southeastwheelsevents.com/events/11th-annual-lawrenceville-g
 a-lodge-131-f-am-car-show
DTSTART;TZID=Pacific/Midway:20131005T100000
DTEND;TZID=Pacific/Midway:20131005T150000
CATEGORIES:car, show
LOCATION:Phoenix High School parking lot
WEBSITE:http://www.lvlodge131.org
URL:http://www.lvlodge131.org
CONTACT:404-680-9842
ORGANIZER:Ron Denney
ATTACH;FMTTYPE="image/jpeg":http://storage.ning.com/topology/rest/1.0/
 file/get/967645186?profile=original
ATTENDEE;ROLE=REQ-PARTICIPANT;PARTSTAT=ACCEPTED;RSVP=TRUE;CN="ray ande
 rson":https://www.southeastwheelsevents.com/profile/rayanderson
ATTENDEE;ROLE=REQ-PARTICIPANT;PARTSTAT=TENTATIVE;RSVP=TRUE;CN="Melba C
 helko":https://www.southeastwheelsevents.com/profile/MelbaChelko
END:VEVENT
END:VCALENDAR
