BEGIN:VCALENDAR
PRODID:NingEventWidget-v1
VERSION:2.0
METHOD:PUBLISH
BEGIN:VTIMEZONE
TZID:Pacific/Midway
X-LIC-LOCATION:Pacific/Midway
BEGIN:STANDARD
TZOFFSETFROM:-1100
TZOFFSETTO:-1100
TZNAME:SST
DTSTART:19700101T000000
END:STANDARD
END:VTIMEZONE
BEGIN:VEVENT
UID:5072275:Event:16491
DTSTAMP:20260420T162217Z
SUMMARY:14th Annual Open Car Show -Palatka, FL
DESCRIPTION:12th Annual Open Car Show -Palatka, FL\nIn conjunction w
 ith the Azalea Festival Info Roger & Paula Kash 352-473-3476\n\nFor
  more information visit https://www.southeastwheelsevents.com/events/1
 1th-annual-open-car-show
DTSTART;TZID=Pacific/Midway:20130302T080000
DTEND;TZID=Pacific/Midway:20130302T160000
CATEGORIES:car-show
LOCATION:Riverfront Park
WEBSITE:http://www.azaleacitycruisers.com
URL:http://www.azaleacitycruisers.com
CONTACT:Roger & Paula Kash 352-473-3476
ORGANIZER:Roger & Paula Kash
ATTACH;FMTTYPE="image/jpeg":http://storage.ning.com/topology/rest/1.0/
 file/get/967572041?profile=original
ATTENDEE;ROLE=REQ-PARTICIPANT;PARTSTAT=ACCEPTED;RSVP=TRUE;CN="Michael 
 Thies":https://www.southeastwheelsevents.com/profile/MichaelThies
END:VEVENT
END:VCALENDAR
