BEGIN:VCALENDAR
PRODID:NingEventWidget-v1
VERSION:2.0
METHOD:PUBLISH
BEGIN:VTIMEZONE
TZID:Pacific/Midway
X-LIC-LOCATION:Pacific/Midway
BEGIN:STANDARD
TZOFFSETFROM:-1100
TZOFFSETTO:-1100
TZNAME:SST
DTSTART:19700101T000000
END:STANDARD
END:VTIMEZONE
BEGIN:VEVENT
UID:5072275:Event:1180266
DTSTAMP:20260419T044126Z
SUMMARY:Annual Back to the 50’s, Car Show and Chith Cookoff - Orange
  Park, Fl
DESCRIPTION:15th Annual Back to the 50’s, Car Show and Chili Cookoff
  at Moosehaven, 1701 Park Ave.\r\n\n\nFor more information visit https
 ://www.southeastwheelsevents.com/events/12th-annual-back-to-the-50-s-c
 ar-show-and-chith-cookoff-orange
DTSTART;TZID=Pacific/Midway:20191109T100000
DTEND;TZID=Pacific/Midway:20191109T170000
CATEGORIES:car, show, cruise-in
LOCATION:Orange Park, Fl
WEBSITE:
URL:
CONTACT:904-278-1200
ORGANIZER:Moosehaven
ATTACH;FMTTYPE="image/jpeg":https://storage.ning.com/topology/rest/1.0
 /file/get/2631759117?profile=original
ATTENDEE;ROLE=REQ-PARTICIPANT;PARTSTAT=ACCEPTED;RSVP=TRUE;CN="Anthony 
 Hopkins":https://www.southeastwheelsevents.com/profile/AnthonyHopkins
END:VEVENT
END:VCALENDAR
