BEGIN:VCALENDAR
PRODID:NingEventWidget-v1
VERSION:2.0
METHOD:PUBLISH
BEGIN:VTIMEZONE
TZID:Pacific/Midway
X-LIC-LOCATION:Pacific/Midway
BEGIN:STANDARD
TZOFFSETFROM:-1100
TZOFFSETTO:-1100
TZNAME:SST
DTSTART:19700101T000000
END:STANDARD
END:VTIMEZONE
BEGIN:VEVENT
UID:5072275:Event:1102770
DTSTAMP:20260423T093647Z
SUMMARY:12th Annual Model A Club - Oxford, Al
DESCRIPTION:12th Annual Model A Club \"Sweet Home Alabama Tour\" based
  at The Sleep Inn 88 Colonial Drive.\n\nFor more information visit htt
 ps://www.southeastwheelsevents.com/events/12th-annual-model-a-club-oxf
 ord-al
DTSTART;TZID=Pacific/Midway:20181018T180000
DTEND;TZID=Pacific/Midway:20181020T210000
CATEGORIES:car, show, cruise, in
LOCATION:The Sleep Inn,
WEBSITE:https://www.google.co.in/maps/place/88+Colonial+Dr,+Oxford,+AL
 +36203,+USA/@33.613663,-85.7914768,17z/data=!3m1!4b1!4m5!3m4!1s0x888bb
 1957945d09d:0x91fa355cc9dd0d4b!8m2!3d33.6136586!4d-85.7892881
URL:https://www.google.co.in/maps/place/88+Colonial+Dr,+Oxford,+AL+362
 03,+USA/@33.613663,-85.7914768,17z/data=!3m1!4b1!4m5!3m4!1s0x888bb1957
 945d09d:0x91fa355cc9dd0d4b!8m2!3d33.6136586!4d-85.7892881
CONTACT:(256) 310-6463, (334) 269-1309
ORGANIZER:Gerald Grizzard, Paul Majerick
ATTACH;FMTTYPE="image/jpeg":http://storage.ning.com/topology/rest/1.0/
 file/get/967796516?profile=original
ATTENDEE;ROLE=REQ-PARTICIPANT;PARTSTAT=ACCEPTED;RSVP=TRUE;CN="Anthony 
 Hopkins":https://www.southeastwheelsevents.com/profile/AnthonyHopkins
END:VEVENT
END:VCALENDAR
