BEGIN:VCALENDAR
PRODID:NingEventWidget-v1
VERSION:2.0
METHOD:PUBLISH
BEGIN:VTIMEZONE
TZID:Pacific/Midway
X-LIC-LOCATION:Pacific/Midway
BEGIN:STANDARD
TZOFFSETFROM:-1100
TZOFFSETTO:-1100
TZNAME:SST
DTSTART:19700101T000000
END:STANDARD
END:VTIMEZONE
BEGIN:VEVENT
UID:5072275:Event:641802
DTSTAMP:20260419T041238Z
SUMMARY:13 Annual Hamby Car Show for the Wounded Warrior Project -Perr
 y, GA
DESCRIPTION:This is a top 50 show with best of classes. We have the mo
 st unique trophies you will ever see.13th%20Annual%20Hamby%20Car%20Sho
 w%20Flyer.pdfANNUAL%20HAMBY%20CAR%20SHOW%20WAIVER.docx\n\nCome to hist
 oric Perry, GA and have a great time\n\nFor more information visit htt
 ps://www.southeastwheelsevents.com/events/13-annual-hamby-car-show-for
 -the-wounded-warrior-project
DTSTART;TZID=Pacific/Midway:20130427T090000
DTEND;TZID=Pacific/Midway:20130427T160000
CATEGORIES:car, show
LOCATION:Hamby Chevrolet/GMC
WEBSITE:
URL:
CONTACT:4786621206
ORGANIZER;CN="Keith Kindle":https://www.southeastwheelsevents.com/prof
 ile/KeithKindle
ATTACH;FMTTYPE="image/jpeg":
ATTENDEE;ROLE=REQ-PARTICIPANT;PARTSTAT=ACCEPTED;RSVP=TRUE;CN="Keith Ki
 ndle":https://www.southeastwheelsevents.com/profile/KeithKindle
END:VEVENT
END:VCALENDAR
