BEGIN:VCALENDAR
PRODID:NingEventWidget-v1
VERSION:2.0
METHOD:PUBLISH
BEGIN:VTIMEZONE
TZID:Pacific/Midway
X-LIC-LOCATION:Pacific/Midway
BEGIN:STANDARD
TZOFFSETFROM:-1100
TZOFFSETTO:-1100
TZNAME:SST
DTSTART:19700101T000000
END:STANDARD
END:VTIMEZONE
BEGIN:VEVENT
UID:5072275:Event:794181
DTSTAMP:20260422T105718Z
SUMMARY:135 Car Meet
DESCRIPTION:Free car meet every Saturday night 9pm at Hooters off 120/
 316. No burn outs or revving your engines. Great place to meet and mak
 e new friend that share same passion as you.\nHosted by: Street Dynami
 ks\n\nFor more information visit https://www.southeastwheelsevents.com
 /events/135-car-meet-1
DTSTART;TZID=Pacific/Midway:20140614T210000
DTEND;TZID=Pacific/Midway:20140615T000000
CATEGORIES:car, meet
LOCATION:Lawrenceville, Ga
WEBSITE:
URL:
CONTACT:
ORGANIZER:Street Dynamiks
ATTACH;FMTTYPE="image/jpeg":
ATTENDEE;ROLE=REQ-PARTICIPANT;PARTSTAT=ACCEPTED;RSVP=TRUE;CN="Josh Kur
 tz":https://www.southeastwheelsevents.com/profile/JoshKurtz
ATTENDEE;ROLE=REQ-PARTICIPANT;PARTSTAT=TENTATIVE;RSVP=TRUE;CN="John Ba
 ker":https://www.southeastwheelsevents.com/profile/JohnJBaker
ATTENDEE;ROLE=REQ-PARTICIPANT;PARTSTAT=TENTATIVE;RSVP=TRUE;CN="Mike La
 May":https://www.southeastwheelsevents.com/profile/MikeLaMay
END:VEVENT
END:VCALENDAR
