BEGIN:VCALENDAR
PRODID:NingEventWidget-v1
VERSION:2.0
METHOD:PUBLISH
BEGIN:VTIMEZONE
TZID:Pacific/Midway
X-LIC-LOCATION:Pacific/Midway
BEGIN:STANDARD
TZOFFSETFROM:-1100
TZOFFSETTO:-1100
TZNAME:SST
DTSTART:19700101T000000
END:STANDARD
END:VTIMEZONE
BEGIN:VEVENT
UID:5072275:Event:573586
DTSTAMP:20260424T105236Z
SUMMARY:13th Annual Fall Line Festival Car, Truck, & Motorcycle Show G
 ordon Ga.
DESCRIPTION:\n\nFor more information visit https://www.southeastwheels
 events.com/events/13th-annual-fall-line-festival-car-truck-motorcycle-
 show-gordon
DTSTART;TZID=Pacific/Midway:20131005T090000
DTEND;TZID=Pacific/Midway:20131005T150000
CATEGORIES:car, show, "&", festival
LOCATION:Gordon Ga
WEBSITE:http://www.gordonbht.com
URL:http://www.gordonbht.com
CONTACT:478-361-8117
ORGANIZER;CN="Tim Stewart":https://www.southeastwheelsevents.com/profi
 le/TimStewart
ATTACH;FMTTYPE="image/jpeg":
ATTENDEE;ROLE=REQ-PARTICIPANT;PARTSTAT=ACCEPTED;RSVP=TRUE;CN="Jack Tho
 mas":https://www.southeastwheelsevents.com/profile/JackThomas
ATTENDEE;ROLE=REQ-PARTICIPANT;PARTSTAT=ACCEPTED;RSVP=TRUE;CN="Tim Stew
 art":https://www.southeastwheelsevents.com/profile/TimStewart
END:VEVENT
END:VCALENDAR
