BEGIN:VCALENDAR
PRODID:NingEventWidget-v1
VERSION:2.0
METHOD:PUBLISH
BEGIN:VTIMEZONE
TZID:Pacific/Midway
X-LIC-LOCATION:Pacific/Midway
BEGIN:STANDARD
TZOFFSETFROM:-1100
TZOFFSETTO:-1100
TZNAME:SST
DTSTART:19700101T000000
END:STANDARD
END:VTIMEZONE
BEGIN:VEVENT
UID:5072275:Event:1116753
DTSTAMP:20260423T154906Z
SUMMARY:14 Annual Mack Evans Alan Carter Memorial Show -Athens, GA
DESCRIPTION:top 20 best of cruise\r\n50/25/25 100percent pay out\r\ndo
 or prizes\r\nenvelope drawing at end of show over $4200.00 in cash\r\n
 and prizes\n\nFor more information visit https://www.southeastwheelsev
 ents.com/events/14-annual-mack-evans-alan-carter-memorial-show
DTSTART;TZID=Pacific/Midway:20181104T110000
DTEND;TZID=Pacific/Midway:20181104T163000
CATEGORIES:cruise, in, show
LOCATION:Varsity Athens Ga
WEBSITE:
URL:
CONTACT:706 338 8911
ORGANIZER;CN="Tommy Landrum":https://www.southeastwheelsevents.com/pro
 file/TommyLandrum
ATTACH;FMTTYPE="image/jpeg":
ATTENDEE;ROLE=REQ-PARTICIPANT;PARTSTAT=ACCEPTED;RSVP=TRUE;CN="Tommy La
 ndrum":https://www.southeastwheelsevents.com/profile/TommyLandrum
END:VEVENT
END:VCALENDAR
