BEGIN:VCALENDAR
PRODID:NingEventWidget-v1
VERSION:2.0
METHOD:PUBLISH
BEGIN:VTIMEZONE
TZID:Pacific/Midway
X-LIC-LOCATION:Pacific/Midway
BEGIN:STANDARD
TZOFFSETFROM:-1100
TZOFFSETTO:-1100
TZNAME:SST
DTSTART:19700101T000000
END:STANDARD
END:VTIMEZONE
BEGIN:VEVENT
UID:5072275:Event:813427
DTSTAMP:20260423T134853Z
SUMMARY:14th Annual Atlanta British Car Fayre -Norcross, GA
DESCRIPTION:Downtown Norcross swells with British cars, motorcycles, p
 eople and all things British for the Atlanta British Car Fayre.This an
 nual event continues to grow in popularity and draws over 250 cars and
  car enthusiasts and families from all over the Greater Atlanta area a
 nd out of state too!\n\nFor more information visit https://www.southea
 stwheelsevents.com/events/14th-annual-atlanta-british-car-fayre-norcro
 ss-ga
DTSTART;TZID=Pacific/Midway:20140906T100000
DTEND;TZID=Pacific/Midway:20140906T150000
CATEGORIES:charity, car, show
LOCATION:Historic Downtown Norcross
WEBSITE:http://atlantabritishcarfayre.com/
URL:http://atlantabritishcarfayre.com/
CONTACT:info@atlantabritishcarfayre.com
ORGANIZER;CN="Atlanta British Car Fayre":https://www.southeastwheelsev
 ents.com/profile/AtlantaBritishCarFayre
ATTACH;FMTTYPE="image/jpeg":http://storage.ning.com/topology/rest/1.0/
 file/get/967667736?profile=original
ATTENDEE;ROLE=REQ-PARTICIPANT;PARTSTAT=ACCEPTED;RSVP=TRUE;CN="Atlanta 
 British Car Fayre":https://www.southeastwheelsevents.com/profile/Atlan
 taBritishCarFayre
ATTENDEE;ROLE=REQ-PARTICIPANT;PARTSTAT=TENTATIVE;RSVP=TRUE;CN="Nancy E
 . Baker":https://www.southeastwheelsevents.com/profile/NancyEBaker
ATTENDEE;ROLE=REQ-PARTICIPANT;PARTSTAT=TENTATIVE;RSVP=TRUE;CN="JP Brad
 y":https://www.southeastwheelsevents.com/profile/jpbrady
END:VEVENT
END:VCALENDAR
