BEGIN:VCALENDAR
PRODID:NingEventWidget-v1
VERSION:2.0
METHOD:PUBLISH
BEGIN:VTIMEZONE
TZID:Pacific/Midway
X-LIC-LOCATION:Pacific/Midway
BEGIN:STANDARD
TZOFFSETFROM:-1100
TZOFFSETTO:-1100
TZNAME:SST
DTSTART:19700101T000000
END:STANDARD
END:VTIMEZONE
BEGIN:VEVENT
UID:5072275:Event:927346
DTSTAMP:20260425T074735Z
SUMMARY:14th Annual Mopar Southern Classic -Lawrenceville, GA
DESCRIPTION:\n\n\nFor more information visit https://www.southeastwhee
 lsevents.com/events/14th-annual-mopar-southern-classic
DTSTART;TZID=Pacific/Midway:20151003T000000
DTEND;TZID=Pacific/Midway:20151004T235900
CATEGORIES:car, show
LOCATION:Gwinnett Country Fairgrounds
WEBSITE:http://gwinnettcountyfair.com
URL:http://gwinnettcountyfair.com
CONTACT:678-778-4651
ORGANIZER:North Georgia Mopar Club
ATTACH;FMTTYPE="image/jpeg":http://storage.ning.com/topology/rest/1.0/
 file/get/967695293?profile=original
ATTENDEE;ROLE=REQ-PARTICIPANT;PARTSTAT=ACCEPTED;RSVP=TRUE;CN="John Cur
 tis Smith":https://www.southeastwheelsevents.com/profile/JohnCurtisSmi
 th
ATTENDEE;ROLE=REQ-PARTICIPANT;PARTSTAT=ACCEPTED;RSVP=TRUE;CN="Michael 
 Thies":https://www.southeastwheelsevents.com/profile/MichaelThies
ATTENDEE;ROLE=REQ-PARTICIPANT;PARTSTAT=ACCEPTED;RSVP=TRUE;CN=Linda:htt
 ps://www.southeastwheelsevents.com/profile/Linda
ATTENDEE;ROLE=REQ-PARTICIPANT;PARTSTAT=TENTATIVE;RSVP=TRUE;CN="John Ba
 ker":https://www.southeastwheelsevents.com/profile/JohnJBaker
END:VEVENT
END:VCALENDAR
