BEGIN:VCALENDAR
PRODID:NingEventWidget-v1
VERSION:2.0
METHOD:PUBLISH
BEGIN:VTIMEZONE
TZID:Pacific/Midway
X-LIC-LOCATION:Pacific/Midway
BEGIN:STANDARD
TZOFFSETFROM:-1100
TZOFFSETTO:-1100
TZNAME:SST
DTSTART:19700101T000000
END:STANDARD
END:VTIMEZONE
BEGIN:VEVENT
UID:5072275:Event:1098263
DTSTAMP:20260422T020337Z
SUMMARY:15th Annual Hubcaps and History Classic Car Show - Marietta, G
 a
DESCRIPTION:15th Annual Hubcaps and History Classic Car Show and 25th 
 Annual Historic Marietta StreetFest.\n\nFor more information visit htt
 ps://www.southeastwheelsevents.com/events/15th-annual-hubcaps-and-hist
 ory-classic-car-show-marietta-ga
DTSTART;TZID=Pacific/Midway:20180915T100000
DTEND;TZID=Pacific/Midway:20180916T150000
CATEGORIES:car, show, cruise, in
LOCATION:Square,
WEBSITE:http://mariettastreetfest.com
URL:http://mariettastreetfest.com
CONTACT:(770) 794-5710
ORGANIZER:Christa
ATTACH;FMTTYPE="image/jpeg":http://storage.ning.com/topology/rest/1.0/
 file/get/967791897?profile=original
ATTENDEE;ROLE=REQ-PARTICIPANT;PARTSTAT=ACCEPTED;RSVP=TRUE;CN="robbie p
 adgett":https://www.southeastwheelsevents.com/profile/robbiepadgett
ATTENDEE;ROLE=REQ-PARTICIPANT;PARTSTAT=ACCEPTED;RSVP=TRUE;CN="Anthony 
 Hopkins":https://www.southeastwheelsevents.com/profile/AnthonyHopkins
ATTENDEE;ROLE=REQ-PARTICIPANT;PARTSTAT=TENTATIVE;RSVP=TRUE;CN="Bill mu
 sarra":https://www.southeastwheelsevents.com/profile/billmusarra
END:VEVENT
END:VCALENDAR
