BEGIN:VCALENDAR
PRODID:NingEventWidget-v1
VERSION:2.0
METHOD:PUBLISH
BEGIN:VTIMEZONE
TZID:Pacific/Midway
X-LIC-LOCATION:Pacific/Midway
BEGIN:STANDARD
TZOFFSETFROM:-1100
TZOFFSETTO:-1100
TZNAME:SST
DTSTART:19700101T000000
END:STANDARD
END:VTIMEZONE
BEGIN:VEVENT
UID:5072275:Event:1103253
DTSTAMP:20260422T134518Z
SUMMARY:Annual OktoPRfest Cruise In on Parris Avenue - Port Royal, SC
DESCRIPTION:Annual OktoPRfest Cruise In on Parris Avenue.\r\n17th year
 !\r\nLocated a short 10 minute drive from Beaufort. Come to Port Royal
  for the Annual OktoPRfest celebration on Saturday, Sept. 25, 2021 fro
 m 11 a.m.-5 p.m. Local chefs, restaurants and food trucks will prepare
  German-inspired dishes such as brats, pretzels and American food favo
 rites. Wash it down with a variety of craft, imported and domestic bee
 rs.\n\nFor more information visit https://www.southeastwheelsevents.co
 m/events/15th-annual-oktoprfest-cruise-in-on-parris-avenue-port-royal-
 sc
DTSTART;TZID=Pacific/Midway:20220924T090000
DTEND;TZID=Pacific/Midway:20220924T140000
CATEGORIES:car, show, cruise, in
LOCATION:Paris Avenue,
WEBSITE:
URL:
CONTACT:Rick 843-812-7249
ORGANIZER:
ATTACH;FMTTYPE="image/jpeg":http://storage.ning.com/topology/rest/1.0/
 file/get/967801518?profile=original
ATTENDEE;ROLE=REQ-PARTICIPANT;PARTSTAT=ACCEPTED;RSVP=TRUE;CN="Anthony 
 Hopkins":https://www.southeastwheelsevents.com/profile/AnthonyHopkins
END:VEVENT
END:VCALENDAR
