BEGIN:VCALENDAR
PRODID:NingEventWidget-v1
VERSION:2.0
METHOD:PUBLISH
BEGIN:VTIMEZONE
TZID:Pacific/Midway
X-LIC-LOCATION:Pacific/Midway
BEGIN:STANDARD
TZOFFSETFROM:-1100
TZOFFSETTO:-1100
TZNAME:SST
DTSTART:19700101T000000
END:STANDARD
END:VTIMEZONE
BEGIN:VEVENT
UID:5072275:Event:1084001
DTSTAMP:20260423T172006Z
SUMMARY:Annual Vintage VW Bus Show (1950-1979)- Charlotte, NC
DESCRIPTION:Annual Vintage VW Bus Show (1950-1979)\r\n\n\nFor more inf
 ormation visit https://www.southeastwheelsevents.com/events/15th-annua
 l-vintage-vw-bus-show-1950-1979-charlotte-nc
DTSTART;TZID=Pacific/Midway:20220514T080000
DTEND;TZID=Pacific/Midway:20220514T140000
CATEGORIES:bus, show
LOCATION:Thomas T. Sandiford House
WEBSITE:http://monkeynutvw.com
URL:http://monkeynutvw.com
CONTACT:(704)598-6219
ORGANIZER:
ATTACH;FMTTYPE="image/jpeg":http://storage.ning.com/topology/rest/1.0/
 file/get/967766087?profile=original
ATTENDEE;ROLE=REQ-PARTICIPANT;PARTSTAT=ACCEPTED;RSVP=TRUE;CN="Anthony 
 Hopkins":https://www.southeastwheelsevents.com/profile/AnthonyHopkins
END:VEVENT
END:VCALENDAR
