BEGIN:VCALENDAR
PRODID:NingEventWidget-v1
VERSION:2.0
METHOD:PUBLISH
BEGIN:VTIMEZONE
TZID:Pacific/Midway
X-LIC-LOCATION:Pacific/Midway
BEGIN:STANDARD
TZOFFSETFROM:-1100
TZOFFSETTO:-1100
TZNAME:SST
DTSTART:19700101T000000
END:STANDARD
END:VTIMEZONE
BEGIN:VEVENT
UID:5072275:Event:1087224
DTSTAMP:20260423T201031Z
SUMMARY:Annual Freedom Fest Car, Truck and Motorcycle Show - Rainsvill
 e, AL
DESCRIPTION:Car, Truck & Motorcycle Show and Swap Meet\r\nSaturday, Ju
 ne 26th, 2021\r\nRainsville Sports Complex\r\nPre-Registration $20\r\n
 Day of Show $25\r\nRegistration:  3:00-4:30pm, Awards 7:00pm\r\nDoor 
 Prizes:  42″ Flat Screen Television, BBQ Grill, Tools, $1000 Cash\r
 \nUSED LS Motor w/transmission-computer-fueled peddle etc.\r\n**ALL Pr
 oceeds benefit RFBC Missions**\r\nFor additional information contact: 
 Jonathan Harris @ 256-717-9678 or\r\nTyler Murdock @ 256-605-5593\r\nM
 ail entries to:  638 County Road 384, Dutton, AL 35744\n\nFor more in
 formation visit https://www.southeastwheelsevents.com/events/16th-annu
 al-freedom-fest-car-truck-and-motorcycle-show-rainsville
DTSTART;TZID=Pacific/Midway:20210626T150000
DTEND;TZID=Pacific/Midway:20210626T190000
CATEGORIES:car, truck, and, motorcycle, show
LOCATION:Field Of Dreams Sports Complex
WEBSITE:http://Field Of Dreams Sports Complex 100 Rodeo Ln, Rainsville
 , AL
URL:http://Field Of Dreams Sports Complex 100 Rodeo Ln, Rainsville, AL
CONTACT:56-605-5593, or Jon Harris (256) 717-9678
ORGANIZER:Freedom Fest
ATTACH;FMTTYPE="image/jpeg":http://storage.ning.com/topology/rest/1.0/
 file/get/967775064?profile=original
ATTENDEE;ROLE=REQ-PARTICIPANT;PARTSTAT=ACCEPTED;RSVP=TRUE;CN="Anthony 
 Hopkins":https://www.southeastwheelsevents.com/profile/AnthonyHopkins
END:VEVENT
END:VCALENDAR
