BEGIN:VCALENDAR
PRODID:NingEventWidget-v1
VERSION:2.0
METHOD:PUBLISH
BEGIN:VTIMEZONE
TZID:Pacific/Midway
X-LIC-LOCATION:Pacific/Midway
BEGIN:STANDARD
TZOFFSETFROM:-1100
TZOFFSETTO:-1100
TZNAME:SST
DTSTART:19700101T000000
END:STANDARD
END:VTIMEZONE
BEGIN:VEVENT
UID:5072275:Event:1089222
DTSTAMP:20260423T084150Z
SUMMARY:Annual Mustang Week - Myrtle Beach, Sc
DESCRIPTION:18th Annual Mustang Week.\r\n\n\nFor more information visi
 t https://www.southeastwheelsevents.com/events/16th-annual-mustang-wee
 k-myrtle-beach-sc
DTSTART;TZID=Pacific/Midway:20210907T000000
DTEND;TZID=Pacific/Midway:20210911T235900
CATEGORIES:car, show
LOCATION:Myrtle Beach
WEBSITE:http://mustangweek.com
URL:http://mustangweek.com
CONTACT:(910) 894-3592, (434) 250-6490
ORGANIZER:Rodney Melton, Mike Clay
ATTACH;FMTTYPE="image/jpeg":http://storage.ning.com/topology/rest/1.0/
 file/get/967781577?profile=original
ATTENDEE;ROLE=REQ-PARTICIPANT;PARTSTAT=ACCEPTED;RSVP=TRUE;CN="Anthony 
 Hopkins":https://www.southeastwheelsevents.com/profile/AnthonyHopkins
END:VEVENT
END:VCALENDAR
