BEGIN:VCALENDAR
PRODID:NingEventWidget-v1
VERSION:2.0
METHOD:PUBLISH
BEGIN:VTIMEZONE
TZID:Pacific/Midway
X-LIC-LOCATION:Pacific/Midway
BEGIN:STANDARD
TZOFFSETFROM:-1100
TZOFFSETTO:-1100
TZNAME:SST
DTSTART:19700101T000000
END:STANDARD
END:VTIMEZONE
BEGIN:VEVENT
UID:5072275:Event:1099458
DTSTAMP:20260420T061754Z
SUMMARY:16th Annual United Way Car Show - Roswell, Ga
DESCRIPTION:16th Annual United Way Car Show at GM, 2010 Warsaw Road.\n
 \nFor more information visit https://www.southeastwheelsevents.com/eve
 nts/16th-annual-united-way-car-show-roswell-ga
DTSTART;TZID=Pacific/Midway:20180922T080000
DTEND;TZID=Pacific/Midway:20180922T153000
CATEGORIES:car, show, cruise, in
LOCATION:GM,
WEBSITE:http://carshow.unitedwayatlanta.net
URL:http://carshow.unitedwayatlanta.net
CONTACT:(678) 778-6144, (404) 828-4664, (678) 485-8361
ORGANIZER:
ATTACH;FMTTYPE="image/jpeg":http://storage.ning.com/topology/rest/1.0/
 file/get/967799542?profile=original
ATTENDEE;ROLE=REQ-PARTICIPANT;PARTSTAT=ACCEPTED;RSVP=TRUE;CN="Bill mus
 arra":https://www.southeastwheelsevents.com/profile/billmusarra
ATTENDEE;ROLE=REQ-PARTICIPANT;PARTSTAT=ACCEPTED;RSVP=TRUE;CN="Anthony 
 Hopkins":https://www.southeastwheelsevents.com/profile/AnthonyHopkins
END:VEVENT
END:VCALENDAR
