BEGIN:VCALENDAR
PRODID:NingEventWidget-v1
VERSION:2.0
METHOD:PUBLISH
BEGIN:VTIMEZONE
TZID:Pacific/Midway
X-LIC-LOCATION:Pacific/Midway
BEGIN:STANDARD
TZOFFSETFROM:-1100
TZOFFSETTO:-1100
TZNAME:SST
DTSTART:19700101T000000
END:STANDARD
END:VTIMEZONE
BEGIN:VEVENT
UID:5072275:Event:214837
DTSTAMP:20260422T072420Z
SUMMARY:17th Annual ALAGA Car Show -Eufaula, AL
DESCRIPTION:Registration opens @8am cst and closes@ 12 noon. Awards wi
 ll be at 2:30pm. We have 31 classes. $250.00 best of show. 50-60 music
 . 50/50 pot. Billy Lawrence Chevrolet major sponsor. Door prizes. Show
  is on Lake Eufaula. All proceeds go to charity. The show is at Old Cr
 eek Town Park. Watch for signs.\n\nFor more information visit https://
 www.southeastwheelsevents.com/events/17th-annual-alaga-car-show
DTSTART;TZID=Pacific/Midway:20110416T080000
DTEND;TZID=Pacific/Midway:20110416T150000
CATEGORIES:fundraiser
LOCATION:Old Creek Town Park
WEBSITE:
URL:
CONTACT:334-687-3374
ORGANIZER;CN="Danny Barker":https://www.southeastwheelsevents.com/prof
 ile/DannyBarker
ATTACH;FMTTYPE="image/jpeg":
ATTENDEE;ROLE=REQ-PARTICIPANT;PARTSTAT=ACCEPTED;RSVP=TRUE;CN="Danny Ba
 rker":https://www.southeastwheelsevents.com/profile/DannyBarker
END:VEVENT
END:VCALENDAR
