BEGIN:VCALENDAR
PRODID:NingEventWidget-v1
VERSION:2.0
METHOD:PUBLISH
BEGIN:VTIMEZONE
TZID:Pacific/Midway
X-LIC-LOCATION:Pacific/Midway
BEGIN:STANDARD
TZOFFSETFROM:-1100
TZOFFSETTO:-1100
TZNAME:SST
DTSTART:19700101T000000
END:STANDARD
END:VTIMEZONE
BEGIN:VEVENT
UID:5072275:Event:1180392
DTSTAMP:20260419T173237Z
SUMMARY:17th Annual Christmas for Kids Car and Truck Show - Charlotte,
  Nc
DESCRIPTION:17th Annual    Christmas   for   Kids   Car  & 
  Truck   Show   at  Hendrick    Motorsports,   4400   Papa
   Joe   Hendrick    Boulevard.\n\nFor more information visit htt
 ps://www.southeastwheelsevents.com/events/17th-annual-christmas-for-ki
 ds-car-and-truck-show-charlotte-nc
DTSTART;TZID=Pacific/Midway:20191123T080000
DTEND;TZID=Pacific/Midway:20191123T170000
CATEGORIES:car, show, truck, motorcycle, cruise-in
LOCATION:Hendrick Motorsports,
WEBSITE:https://www.google.com/maps/place/4400+Papa+Joe+Hendrick+Blvd,
 +Charlotte,+NC+28262,+USA/@35.3549999,-80.7066559,17z/data=!3m1!4b1!4m
 5!3m4!1s0x88541b6c179f5075:0x6de498beeb3be08a!8m2!3d35.3549955!4d-80.7
 044672
URL:https://www.google.com/maps/place/4400+Papa+Joe+Hendrick+Blvd,+Cha
 rlotte,+NC+28262,+USA/@35.3549999,-80.7066559,17z/data=!3m1!4b1!4m5!3m
 4!1s0x88541b6c179f5075:0x6de498beeb3be08a!8m2!3d35.3549955!4d-80.70446
 72
CONTACT:(678) 449-4771
ORGANIZER:Devin Moore
ATTACH;FMTTYPE="image/jpeg":https://storage.ning.com/topology/rest/1.0
 /file/get/3700619073?profile=original
ATTENDEE;ROLE=REQ-PARTICIPANT;PARTSTAT=ACCEPTED;RSVP=TRUE;CN="Anthony 
 Hopkins":https://www.southeastwheelsevents.com/profile/AnthonyHopkins
END:VEVENT
END:VCALENDAR
