BEGIN:VCALENDAR
PRODID:NingEventWidget-v1
VERSION:2.0
METHOD:PUBLISH
BEGIN:VTIMEZONE
TZID:Pacific/Midway
X-LIC-LOCATION:Pacific/Midway
BEGIN:STANDARD
TZOFFSETFROM:-1100
TZOFFSETTO:-1100
TZNAME:SST
DTSTART:19700101T000000
END:STANDARD
END:VTIMEZONE
BEGIN:VEVENT
UID:5072275:Event:1103190
DTSTAMP:20260421T034305Z
SUMMARY:17th Annual Pumpkin Patch Motorcycle, Antique/Classic Car and 
 Truck Show - Prattville, Al
DESCRIPTION:17th Annual Pumpkin Patch Motorcycle, Antique/Classic Car 
 & Truck Show in confliction with the Arts and Craft Show at Spinners P
 ark on West Street.\n\nFor more information visit https://www.southeas
 twheelsevents.com/events/17th-annual-pumpkin-patch-motorcycle-antique-
 classic-car-and
DTSTART;TZID=Pacific/Midway:20181027T100000
DTEND;TZID=Pacific/Midway:20181027T150000
CATEGORIES:car, show, cruise, in
LOCATION:Spinners Park,
WEBSITE:https://www.google.co.in/maps/place/Spinners+Park/@32.4664652,
 -86.4838163,17z/data=!3m1!4b1!4m5!3m4!1s0x888e8e151c0961ad:0x10c593a92
 c501c40!8m2!3d32.4664652!4d-86.4816276
URL:https://www.google.co.in/maps/place/Spinners+Park/@32.4664652,-86.
 4838163,17z/data=!3m1!4b1!4m5!3m4!1s0x888e8e151c0961ad:0x10c593a92c501
 c40!8m2!3d32.4664652!4d-86.4816276
CONTACT:(334) 300-1333
ORGANIZER:Billy Moses
ATTACH;FMTTYPE="image/jpeg":http://storage.ning.com/topology/rest/1.0/
 file/get/967800923?profile=original
ATTENDEE;ROLE=REQ-PARTICIPANT;PARTSTAT=ACCEPTED;RSVP=TRUE;CN="Anthony 
 Hopkins":https://www.southeastwheelsevents.com/profile/AnthonyHopkins
END:VEVENT
END:VCALENDAR
