BEGIN:VCALENDAR
PRODID:NingEventWidget-v1
VERSION:2.0
METHOD:PUBLISH
BEGIN:VTIMEZONE
TZID:Pacific/Midway
X-LIC-LOCATION:Pacific/Midway
BEGIN:STANDARD
TZOFFSETFROM:-1100
TZOFFSETTO:-1100
TZNAME:SST
DTSTART:19700101T000000
END:STANDARD
END:VTIMEZONE
BEGIN:VEVENT
UID:5072275:Event:1103013
DTSTAMP:20260421T034606Z
SUMMARY:19th Annual Emerald Coast Mustang and All Ford Powered Show - 
 Ft. Walton Beach, Fl
DESCRIPTION:19th Annual Emerald Coast Mustang and All Ford Powered Sho
 w at Ft. Walton Beach Auditorium.\n\nFor more information visit https:
 //www.southeastwheelsevents.com/events/19th-annual-emerald-coast-musta
 ng-and-all-ford-powered-show-ft
DTSTART;TZID=Pacific/Midway:20181027T080000
DTEND;TZID=Pacific/Midway:20181027T150000
CATEGORIES:car, show, cruise, in
LOCATION:Ft. Walton Beach Auditorium,
WEBSITE:http://ectmc.net
URL:http://ectmc.net
CONTACT:(850) 217-3013
ORGANIZER:Jeff Bryant
ATTACH;FMTTYPE="image/jpeg":http://storage.ning.com/topology/rest/1.0/
 file/get/967798135?profile=original
ATTENDEE;ROLE=REQ-PARTICIPANT;PARTSTAT=ACCEPTED;RSVP=TRUE;CN="Anthony 
 Hopkins":https://www.southeastwheelsevents.com/profile/AnthonyHopkins
END:VEVENT
END:VCALENDAR
