BEGIN:VCALENDAR
PRODID:NingEventWidget-v1
VERSION:2.0
METHOD:PUBLISH
BEGIN:VTIMEZONE
TZID:Pacific/Midway
X-LIC-LOCATION:Pacific/Midway
BEGIN:STANDARD
TZOFFSETFROM:-1100
TZOFFSETTO:-1100
TZNAME:SST
DTSTART:19700101T000000
END:STANDARD
END:VTIMEZONE
BEGIN:VEVENT
UID:5072275:Event:1228444
DTSTAMP:20260420T145038Z
SUMMARY:1st ANNUAL ALBERTA BANKS CAR SHOW ! ! ! FLOWERY BRANCH, GA
DESCRIPTION:\n\nFor more information visit https://www.southeastwheels
 events.com/events/1st-annual-alberta-banks-car-show-flowery-branch-ga
DTSTART;TZID=Pacific/Midway:20211003T140000
DTEND;TZID=Pacific/Midway:20211003T180000
CATEGORIES:benefit, for, flowery, branch, "shop with a cop", kids
LOCATION:jIM CROW RD
WEBSITE:
URL:
CONTACT:
ORGANIZER:
ATTACH;FMTTYPE="image/jpeg":https://storage.ning.com/topology/rest/1.0
 /file/get/9525371262?profile=original
ATTENDEE;ROLE=REQ-PARTICIPANT;PARTSTAT=TENTATIVE;RSVP=TRUE;CN="Jeffrey
  Rutherford":https://www.southeastwheelsevents.com/profile/JeffreyRuth
 erford866
END:VEVENT
END:VCALENDAR
