BEGIN:VCALENDAR
PRODID:NingEventWidget-v1
VERSION:2.0
METHOD:PUBLISH
BEGIN:VTIMEZONE
TZID:Pacific/Midway
X-LIC-LOCATION:Pacific/Midway
BEGIN:STANDARD
TZOFFSETFROM:-1100
TZOFFSETTO:-1100
TZNAME:SST
DTSTART:19700101T000000
END:STANDARD
END:VTIMEZONE
BEGIN:VEVENT
UID:5072275:Event:1085707
DTSTAMP:20260420T014408Z
SUMMARY:1st Annual Father’s Day Extravaganza and Car Show
DESCRIPTION:Come out and take a STAND against Sexual Assault!!\n\nFor 
 more information visit https://www.southeastwheelsevents.com/events/1s
 t-annual-father-s-day-extravaganza-and-car-show
DTSTART;TZID=Pacific/Midway:20180616T100000
DTEND;TZID=Pacific/Midway:20180616T180000
CATEGORIES:fundraiser
LOCATION:Walker County Civic Center
WEBSITE:
URL:
CONTACT:423-718-7728
ORGANIZER:Jeff Guthrie
ATTACH;FMTTYPE="image/jpeg":http://storage.ning.com/topology/rest/1.0/
 file/get/967772351?profile=original
ATTENDEE;ROLE=REQ-PARTICIPANT;PARTSTAT=ACCEPTED;RSVP=TRUE;CN="Rachel R
 obinson":https://www.southeastwheelsevents.com/profile/RachelRobinson
END:VEVENT
END:VCALENDAR
