BEGIN:VCALENDAR
PRODID:NingEventWidget-v1
VERSION:2.0
METHOD:PUBLISH
BEGIN:VTIMEZONE
TZID:Pacific/Midway
X-LIC-LOCATION:Pacific/Midway
BEGIN:STANDARD
TZOFFSETFROM:-1100
TZOFFSETTO:-1100
TZNAME:SST
DTSTART:19700101T000000
END:STANDARD
END:VTIMEZONE
BEGIN:VEVENT
UID:5072275:Event:1181111
DTSTAMP:20260420T065530Z
SUMMARY:1st Annual Swap Meet and Open House Car Show - Athens, Al
DESCRIPTION:Drift and Asphalt Cars, Parts and Trailers etc.\nAt Daybre
 ak until...\nWe will be raffling for Door Prizes and Mystery Box.\n\nF
 or more information visit https://www.southeastwheelsevents.com/events
 /1st-annual-swap-meet-and-open-house-car-show-athens-al
DTSTART;TZID=Pacific/Midway:20191221T180000
DTEND;TZID=Pacific/Midway:20191221T210000
CATEGORIES:car, show, cruise-in
LOCATION:Cale Finley Racing,
WEBSITE:https://www.google.com/maps?q=Cale+Finley+Racing&amp;amp;um=1&
 amp;amp;ie=UTF-8&amp;amp;sa=X&amp;amp;ved=2ahUKEwiV2eSJ8v7lAhUJvY8KHUF
 rCeEQ_AUoA3oECA0QBQ
URL:https://www.google.com/maps?q=Cale+Finley+Racing&amp;amp;um=1&amp;
 amp;ie=UTF-8&amp;amp;sa=X&amp;amp;ved=2ahUKEwiV2eSJ8v7lAhUJvY8KHUFrCeE
 Q_AUoA3oECA0QBQ
CONTACT:256-527-4028
ORGANIZER:
ATTACH;FMTTYPE="image/jpeg":https://storage.ning.com/topology/rest/1.0
 /file/get/3708338252?profile=original
ATTENDEE;ROLE=REQ-PARTICIPANT;PARTSTAT=ACCEPTED;RSVP=TRUE;CN="Anthony 
 Hopkins":https://www.southeastwheelsevents.com/profile/AnthonyHopkins
END:VEVENT
END:VCALENDAR
