BEGIN:VCALENDAR
PRODID:NingEventWidget-v1
VERSION:2.0
METHOD:PUBLISH
BEGIN:VTIMEZONE
TZID:Pacific/Midway
X-LIC-LOCATION:Pacific/Midway
BEGIN:STANDARD
TZOFFSETFROM:-1100
TZOFFSETTO:-1100
TZNAME:SST
DTSTART:19700101T000000
END:STANDARD
END:VTIMEZONE
BEGIN:VEVENT
UID:5072275:Event:498288
DTSTAMP:20260420T065711Z
SUMMARY:1st Annual \"TILL THEY ALL COME HOME\" car truck and motorcycl
 e show. Manning Mill Park Adairsville, Ga. 30103
DESCRIPTION:1st Annual \"TILL THEY ALL COME HOME\" car truck motorcycl
 e show  Adairsville, Ga. 30103 2nd in the series of 7 shows to crown 
 the 2012 XTREME AUTOSHOWS Road Tour Champions. Participants will be ju
 dged in 10 classes with 3 awards in each class plus 1 best of show. Ea
 ch entry will be judged by 3 independent judges on a 294 point scale. 
 Registration begins at 9am, show begins at 10am. Awards presentation b
 egins at 4pm. Pre-registration until May.1st 20.00 - day of show 25.00
 . Music, food, vendors, fun. Vendor spaces are available on a one sho
 w basis or for the 7 show series. Email: xtremecarshows@gmail.com\n\nF
 or more information visit https://www.southeastwheelsevents.com/events
 /1st-annual-till-they-all-come-home-car-truck-and-motorcycle-show
DTSTART;TZID=Pacific/Midway:20120526T100000
DTEND;TZID=Pacific/Midway:20120526T160000
CATEGORIES:championship, series
LOCATION:Manning Mill Park
WEBSITE:
URL:
CONTACT:4042173425
ORGANIZER;CN="Robert Graham":https://www.southeastwheelsevents.com/pro
 file/RobertGraham653
ATTACH;FMTTYPE="image/jpeg":http://storage.ning.com/topology/rest/1.0/
 file/get/967614674?profile=original
ATTENDEE;ROLE=REQ-PARTICIPANT;PARTSTAT=ACCEPTED;RSVP=TRUE;CN="Chuck Ca
 usey":https://www.southeastwheelsevents.com/profile/ChuckCausey
ATTENDEE;ROLE=REQ-PARTICIPANT;PARTSTAT=ACCEPTED;RSVP=TRUE;CN="Robert G
 raham":https://www.southeastwheelsevents.com/profile/RobertGraham653
ATTENDEE;ROLE=REQ-PARTICIPANT;PARTSTAT=ACCEPTED;RSVP=TRUE;CN="Jeff Rut
 herford":https://www.southeastwheelsevents.com/profile/JeffreyRutherfo
 rd
END:VEVENT
END:VCALENDAR
