BEGIN:VCALENDAR
PRODID:NingEventWidget-v1
VERSION:2.0
METHOD:PUBLISH
BEGIN:VTIMEZONE
TZID:Pacific/Midway
X-LIC-LOCATION:Pacific/Midway
BEGIN:STANDARD
TZOFFSETFROM:-1100
TZOFFSETTO:-1100
TZNAME:SST
DTSTART:19700101T000000
END:STANDARD
END:VTIMEZONE
BEGIN:VEVENT
UID:5072275:Event:1042344
DTSTAMP:20260422T141910Z
SUMMARY:1st Points race. Renegade, Stk 4, Thunder Bomber, Crate Sports
 man, Stk 8, Limited Sportsman, Pure Stock, FWD
DESCRIPTION:\n\nFor more information visit https://www.southeastwheels
 events.com/events/1st-points-race-renegade-stk-4-thunder-bomber-crate-
 sportsman-stk
DTSTART;TZID=Pacific/Midway:20170401T000000
DTEND;TZID=Pacific/Midway:20170401T235900
CATEGORIES:race
LOCATION:Harris Speedway
WEBSITE:http://www.harrisspeedway.com/hms/home.asp
URL:http://www.harrisspeedway.com/hms/home.asp
CONTACT:828-247-4171
ORGANIZER:
ATTACH;FMTTYPE="image/jpeg":http://storage.ning.com/topology/rest/1.0/
 file/get/967743399?profile=original
ATTENDEE;ROLE=REQ-PARTICIPANT;PARTSTAT=ACCEPTED;RSVP=TRUE;CN="Christop
 her Gosney":https://www.southeastwheelsevents.com/profile/ChristopherG
 osney
END:VEVENT
END:VCALENDAR
