BEGIN:VCALENDAR
PRODID:NingEventWidget-v1
VERSION:2.0
METHOD:PUBLISH
BEGIN:VTIMEZONE
TZID:Pacific/Midway
X-LIC-LOCATION:Pacific/Midway
BEGIN:STANDARD
TZOFFSETFROM:-1100
TZOFFSETTO:-1100
TZNAME:SST
DTSTART:19700101T000000
END:STANDARD
END:VTIMEZONE
BEGIN:VEVENT
UID:5072275:Event:7666
DTSTAMP:20260419T145631Z
SUMMARY:2010  Tucker Cruise-In -Tucker, Ga
DESCRIPTION:\nDoor Prizes - Great Food\nMain Street , Tucker, Georgia\
 nRegistration is $5\nSpectators enter for free\n\nThe Tucker Cruise-in
  is an old fashioned town meet and greet of the car community on Main 
 Street in Tucker Georgia. Each Cruise-in takes place the second Saturd
 ay of every month from April to September. The events run from 5:00 p.
 m. to 8:30 p.m.\n\nWe have vehicles ranging from antiques to street ro
 ds, motorcycles to imports. For a $5 registration fee, we have a place
  for you to show off what you've got!\n\nFor more information about th
 e Tucker Cruise-In's, please call 770-527-1521\n\n2010 Schedule\n\nApr
 il 10th- Hot Dogs from the Tucker Cruisers. Special guest: Early Ford 
 V-8 Club\nSponsor: Baker Paint & Contracting/ Tucker Body Shop\n\nMay 
 8th- The Tucker Masons will be cooking BBQ. Special guest: Georgia Str
 eet Rods\nSponsor: Machining Solutions/ Target Metal Systems\n\nJune 1
 2th- Hot Dogs from the Tucker Cruisers. Elvis will perform and we will
  have a 1950's costume contest. Special Guest: Cadillac/Lasalle Club\n
 Sponsor: Bank of North Georgia\n\nJuly 10th- The Tucker Masons Fish Fr
 y. Special guest: Atlanta Corvette Club\nSponsor: Georgia Plating\n\nA
 ugust 14th- Hot Dogs from the Tucker Cruisers. Special guest: Model-A 
 club\nSponsor: John Martin State Farm/ Lilburn Tire and Auto Service\n
 \nSeptember 11th- American Legion cooking BBQ. Award for Best Military
  Vehicle.\nSponsor: E&B Jewelry/ Famous Jewelry & Pawn\n\nVendor spots
  available. $20. No food vendors! Please contact us for availability.\
 nE-mail cruisein@coferbrothers.com or call 770-527-1521\n\nFor more in
 formation visit https://www.southeastwheelsevents.com/events/2010-tuck
 er-cruisein-tucker-2
DTSTART;TZID=Pacific/Midway:20100612T180000
DTEND;TZID=Pacific/Midway:20100612T210000
CATEGORIES:cruise-in
LOCATION:Downtown
WEBSITE:http://www.tuckercruisein.com/
URL:http://www.tuckercruisein.com/
CONTACT:Wayne Hicks 770-527-1521
ORGANIZER:Tucker Cruise-In
ATTACH;FMTTYPE="image/jpeg":http://storage.ning.com/topology/rest/1.0/
 file/get/967571640?profile=original
ATTENDEE;ROLE=REQ-PARTICIPANT;PARTSTAT=ACCEPTED;RSVP=TRUE;CN="Michael 
 Thies":https://www.southeastwheelsevents.com/profile/MichaelThies
END:VEVENT
END:VCALENDAR
