BEGIN:VCALENDAR
PRODID:NingEventWidget-v1
VERSION:2.0
METHOD:PUBLISH
BEGIN:VTIMEZONE
TZID:Pacific/Midway
X-LIC-LOCATION:Pacific/Midway
BEGIN:STANDARD
TZOFFSETFROM:-1100
TZOFFSETTO:-1100
TZNAME:SST
DTSTART:19700101T000000
END:STANDARD
END:VTIMEZONE
BEGIN:VEVENT
UID:5072275:Event:484069
DTSTAMP:20260423T042804Z
SUMMARY:2012 Gwinnett County, GA - Beat the HEAT Car Show -Duluth, GA
DESCRIPTION:Come on out to the 2012 Gwinnett County, GA - Beat the HEA
 T Car and Motorcycle show at the Gwinnett Arena on July 15th, 2012.\nT
 he event will feature a law enforcement based safety expo as well as d
 isplays from vendors and sponsors such as The Georgia Force Cheerleade
 rs, The Gwinnett Braves, Gold's Gym-Lawrenceville, Discount Tire, MV P
 erformance, Mustangs Unlimited, and much more.  Come toss a few balls
  at the Dunk-a-Cop Dunk Tank and get a little pay-back for that last s
 peeding ticket. \nThe car/motorcycle show will be a NON-TRADITIONAL f
 ormat, and will feature awards in non-traditional classes.  This even
 t is designed to be a family-friendly gathering for car lovers of all 
 ages, and not a competitive-style format car show with \"winners and 
 losers.\"  The awards classes are designed to allow for each car sho
 w participant to be eligible for multiple award categories, and the j
 udging will be carried out by non-traditional judges.  Show partici
 pation for cars is a $20 donation to the program, and a $10 donation 
 for motorcycles.  Registration and set up for the car show begins at
  9:30 am and will close at 1:00 pm. \n \nRegistration forms are avai
 lable on the team's website at www.bthgwinnett.org.  Remember, Beat t
 he Heat, Inc is a non-profit, 501(c)3 charity, and the purpose of this
  event is to raise funds to assist the team in continuing their educat
 ional programs.\n\n\n\n\n\nBeat the HEAT, Inc is a team of local law e
 nforcement officers who use drag racing as a tool to teach young drive
 rs about the dangers of Illegal Street Racing.  This event will featu
 re displays from SWAT teams, demonstrations by K-9 officers, a \"Dunk-
 a-Cop\" tank, and demonstrations by members of the TVOC Teen Driving S
 chool.  Food and refreshments will be available for purchase on site,
  as well as displays by participating sponsors. \n\nFor sponsorship i
 nfo or vendor space, contact Cpl. Chris Ozaluk at 770-630-2483.  Foll
 ow our team at facebook.com/pages/Gwinnett County, GA-Beat the Heat\n\
 nFor more information visit https://www.southeastwheelsevents.com/even
 ts/2012-gwinnett-county-ga-beat-the-heat-car-show
DTSTART;TZID=Pacific/Midway:20120715T110000
DTEND;TZID=Pacific/Midway:20120715T160000
CATEGORIES:fundraiser
LOCATION:The Gwinnett Arena
WEBSITE:http://www.bthgwinnett.org
URL:http://www.bthgwinnett.org
CONTACT:770-780-7964
ORGANIZER;CN="Mark Welch":https://www.southeastwheelsevents.com/profil
 e/MarkWelch
ATTACH;FMTTYPE="image/jpeg":http://storage.ning.com/topology/rest/1.0/
 file/get/967607168?profile=original
ATTENDEE;ROLE=REQ-PARTICIPANT;PARTSTAT=ACCEPTED;RSVP=TRUE;CN="Mark Wel
 ch":https://www.southeastwheelsevents.com/profile/MarkWelch
END:VEVENT
END:VCALENDAR
