BEGIN:VCALENDAR
PRODID:NingEventWidget-v1
VERSION:2.0
METHOD:PUBLISH
BEGIN:VTIMEZONE
TZID:Pacific/Midway
X-LIC-LOCATION:Pacific/Midway
BEGIN:STANDARD
TZOFFSETFROM:-1100
TZOFFSETTO:-1100
TZNAME:SST
DTSTART:19700101T000000
END:STANDARD
END:VTIMEZONE
BEGIN:VEVENT
UID:5072275:Event:471044
DTSTAMP:20260424T105209Z
SUMMARY:2012 KMS Drift, Drag Race Championship, Car Show, SPL and More
  -Adel, GA
DESCRIPTION:\nKMS South Georgia Drag, Drag Race, SPL, Car Show Champio
 nship!!!  Calling All Imports, Sport Compacts, Mini Trucks, Classic, S
 treet Rods, Muscle Cars, Trucks & Bikes for the KMS Drift Tour In Sout
 h Carolina   4 Great Dates Mark Them Down!!! 02-11-2012 Time: Gates o
 pen at 800AM to 600PM  06-16-2012 Time: Gates open at 1000AM to 1100P
 M 09-22-2012 Time: Gates open at 1000AM to 1100PM 12-08-2012 Time: Gat
 es open at 800AM to 600PM  Location: South Georgia Motorsports Park 25
 21 Hwy 41 North - Adel Ga 31620 Exit 32 off I75  Will Have: AWD Dyno H
 orse Power Wars, KMS Kutie Contest, Food, Vendors, Wing Eating Contest
   Bands, DJ, Car Show, Car Meet, Sound Off & Glow Off, Swap Meet and 
 Much More  General Admission $15.00/$10.00 ($5.00 off with coupon prin
 ted from site or on flyer) Car Show or Sound Off $30.00 Driver  Car M
 eet $20.00 Driver  Drifting $45.00 Pre Register (closes 1 month befor
 e) and $60.00 after that Day of 85.00 SPL Sound Off $ Check Site  Host
  Hotel: Super 8 - Adel I-75 (Exit 39) & SR 37 1103 West Fourth Street 
 Adel, Ga 31620 229-896-2244 Double Room for $44.99 (upstairs)-$49.99 (
 downstairs) Free Breakfast each morning too!!!  Hot Wing Eating Contes
 t Sponsored by Wing Zone!! Pizza Eating Sponsored by Domino's Pizza!!!
    Sponsors:  SGMP, Scosche, Koss MotorSports, KMS Drift, Hooters, D
 yno On The Go, Rockauto PAS Mag (Performance Auto and Sound), Car Show
  Nationals\n\n\n\n\n\nFor more information visit https://www.southeast
 wheelsevents.com/events/2012-kms-drift-drag-race-championship-car-show
 -spl-and-more-ade-1
DTSTART;TZID=Pacific/Midway:20120922T100000
DTEND;TZID=Pacific/Midway:20120922T230000
CATEGORIES:car, show, drift, drag
LOCATION:South Georgia Motorsports
WEBSITE:http://www.kossmotorsports.com
URL:http://www.kossmotorsports.com
CONTACT:803-320-3193
ORGANIZER:Koss MotorSports
ATTACH;FMTTYPE="image/jpeg":http://storage.ning.com/topology/rest/1.0/
 file/get/967604932?profile=original
ATTENDEE;ROLE=REQ-PARTICIPANT;PARTSTAT=ACCEPTED;RSVP=TRUE;CN="Michael 
 Thies":https://www.southeastwheelsevents.com/profile/MichaelThies
END:VEVENT
END:VCALENDAR
