BEGIN:VCALENDAR
PRODID:NingEventWidget-v1
VERSION:2.0
METHOD:PUBLISH
BEGIN:VTIMEZONE
TZID:Pacific/Midway
X-LIC-LOCATION:Pacific/Midway
BEGIN:STANDARD
TZOFFSETFROM:-1100
TZOFFSETTO:-1100
TZNAME:SST
DTSTART:19700101T000000
END:STANDARD
END:VTIMEZONE
BEGIN:VEVENT
UID:5072275:Event:135930
DTSTAMP:20260423T215041Z
SUMMARY:2012 Spring Break Car, Truck and Bike Show Twisted Tavern Suga
 rhill, Ga.
DESCRIPTION:TWISTED TAVERN'SSPRING BREAK 2012 SHOW\nRegistration 1:00 
 to 3:00 Awards at 5:00\nReg. Fee $20.00\nBest in Show,\nTop 15\nTop 1
 0 for 2000 and up\nTwisted Tavern's Pick\nGreat Food and Drinks $2.00 
 Burgers and $1.00 Hotdogs\nDJ Door Prizes 50/50\nVendors welcome (no f
 ood) Call Gunny 770-316-1040\n \n\nFor more information visit https:/
 /www.southeastwheelsevents.com/events/2012-spring-break-car-truck
DTSTART;TZID=Pacific/Midway:20120304T130000
DTEND;TZID=Pacific/Midway:20120304T170000
CATEGORIES:car, show
LOCATION:Twisted Tavern (Sugarhill)
WEBSITE:http://twistedtavern.net
URL:http://twistedtavern.net
CONTACT:770-316-1040
ORGANIZER;CN="Richard Scott":https://www.southeastwheelsevents.com/pro
 file/RichardScott
ATTACH;FMTTYPE="image/jpeg":http://storage.ning.com/topology/rest/1.0/
 file/get/967585056?profile=original
ATTENDEE;ROLE=REQ-PARTICIPANT;PARTSTAT=ACCEPTED;RSVP=TRUE;CN="joe good
 mon":https://www.southeastwheelsevents.com/profile/joegoodmon
ATTENDEE;ROLE=REQ-PARTICIPANT;PARTSTAT=ACCEPTED;RSVP=TRUE;CN="Michael 
 Summey":https://www.southeastwheelsevents.com/profile/MichaelSummey
ATTENDEE;ROLE=REQ-PARTICIPANT;PARTSTAT=ACCEPTED;RSVP=TRUE;CN="Rick Rus
 so":https://www.southeastwheelsevents.com/profile/RickRusso
ATTENDEE;ROLE=REQ-PARTICIPANT;PARTSTAT=ACCEPTED;RSVP=TRUE;CN="troy wil
 liams":https://www.southeastwheelsevents.com/profile/troywilliams
ATTENDEE;ROLE=REQ-PARTICIPANT;PARTSTAT=ACCEPTED;RSVP=TRUE;CN="Tommy Br
 own":https://www.southeastwheelsevents.com/profile/TommyBrown
ATTENDEE;ROLE=REQ-PARTICIPANT;PARTSTAT=ACCEPTED;RSVP=TRUE;CN="ellis hu
 dson":https://www.southeastwheelsevents.com/profile/ellishudson
ATTENDEE;ROLE=REQ-PARTICIPANT;PARTSTAT=ACCEPTED;RSVP=TRUE;CN="Dan Blac
 k":https://www.southeastwheelsevents.com/profile/DanBlack
ATTENDEE;ROLE=REQ-PARTICIPANT;PARTSTAT=ACCEPTED;RSVP=TRUE;CN="Steven K
 ing":https://www.southeastwheelsevents.com/profile/StevenKing
ATTENDEE;ROLE=REQ-PARTICIPANT;PARTSTAT=ACCEPTED;RSVP=TRUE;CN="Ed Mistr
 etta":https://www.southeastwheelsevents.com/profile/EdMistretta
ATTENDEE;ROLE=REQ-PARTICIPANT;PARTSTAT=ACCEPTED;RSVP=TRUE;CN="tony ken
 t":https://www.southeastwheelsevents.com/profile/tonykent
ATTENDEE;ROLE=REQ-PARTICIPANT;PARTSTAT=ACCEPTED;RSVP=TRUE;CN="Don Barn
 es":https://www.southeastwheelsevents.com/profile/DonBarnes
ATTENDEE;ROLE=REQ-PARTICIPANT;PARTSTAT=ACCEPTED;RSVP=TRUE;CN="robert n
 esmith":https://www.southeastwheelsevents.com/profile/robertnesmith
ATTENDEE;ROLE=REQ-PARTICIPANT;PARTSTAT=ACCEPTED;RSVP=TRUE;CN="Robert S
 . Smith":https://www.southeastwheelsevents.com/profile/RobertSSmith
ATTENDEE;ROLE=REQ-PARTICIPANT;PARTSTAT=ACCEPTED;RSVP=TRUE;CN="larry sh
 aw":https://www.southeastwheelsevents.com/profile/larryshaw
ATTENDEE;ROLE=REQ-PARTICIPANT;PARTSTAT=ACCEPTED;RSVP=TRUE;CN="Darlene 
 Scott":https://www.southeastwheelsevents.com/profile/Darlene
ATTENDEE;ROLE=REQ-PARTICIPANT;PARTSTAT=ACCEPTED;RSVP=TRUE;CN="Jimmy Ni
 chols":https://www.southeastwheelsevents.com/profile/JimmyNichols
ATTENDEE;ROLE=REQ-PARTICIPANT;PARTSTAT=ACCEPTED;RSVP=TRUE;CN="Ralph E 
 Gilbert":https://www.southeastwheelsevents.com/profile/RalphEGilbert
ATTENDEE;ROLE=REQ-PARTICIPANT;PARTSTAT=ACCEPTED;RSVP=TRUE;CN="clifford
  cook":https://www.southeastwheelsevents.com/profile/cliffordcook
ATTENDEE;ROLE=REQ-PARTICIPANT;PARTSTAT=ACCEPTED;RSVP=TRUE;CN="christop
 her henson":https://www.southeastwheelsevents.com/profile/christopherh
 enson
ATTENDEE;ROLE=REQ-PARTICIPANT;PARTSTAT=ACCEPTED;RSVP=TRUE;CN="Jeff Rut
 herford":https://www.southeastwheelsevents.com/profile/JeffreyRutherfo
 rd
ATTENDEE;ROLE=REQ-PARTICIPANT;PARTSTAT=ACCEPTED;RSVP=TRUE;CN="scott mc
 clain":https://www.southeastwheelsevents.com/profile/brianscottmcclain
ATTENDEE;ROLE=REQ-PARTICIPANT;PARTSTAT=ACCEPTED;RSVP=TRUE;CN="Garage71
  and Grease Inc.":https://www.southeastwheelsevents.com/profile/Garage
 71
ATTENDEE;ROLE=REQ-PARTICIPANT;PARTSTAT=ACCEPTED;RSVP=TRUE;CN="Hugh Dud
 ley":https://www.southeastwheelsevents.com/profile/HughDudley
ATTENDEE;ROLE=REQ-PARTICIPANT;PARTSTAT=ACCEPTED;RSVP=TRUE;CN="Mike Dal
 y Sr":https://www.southeastwheelsevents.com/profile/MikeDalySr
ATTENDEE;ROLE=REQ-PARTICIPANT;PARTSTAT=ACCEPTED;RSVP=TRUE;CN="Miguel C
 aparros":https://www.southeastwheelsevents.com/profile/MiguelCaparros
ATTENDEE;ROLE=REQ-PARTICIPANT;PARTSTAT=ACCEPTED;RSVP=TRUE;CN="Bob Sard
 a":https://www.southeastwheelsevents.com/profile/BobSarda
ATTENDEE;ROLE=REQ-PARTICIPANT;PARTSTAT=ACCEPTED;RSVP=TRUE;CN="Michael 
 Thies":https://www.southeastwheelsevents.com/profile/MichaelThies
ATTENDEE;ROLE=REQ-PARTICIPANT;PARTSTAT=ACCEPTED;RSVP=TRUE;CN="Harry M 
 Bartlett":https://www.southeastwheelsevents.com/profile/HarryMBartlett
ATTENDEE;ROLE=REQ-PARTICIPANT;PARTSTAT=ACCEPTED;RSVP=TRUE;CN="Greg Fos
 ter":https://www.southeastwheelsevents.com/profile/GregFoster
ATTENDEE;ROLE=REQ-PARTICIPANT;PARTSTAT=ACCEPTED;RSVP=TRUE;CN="Gerry So
 rensen":https://www.southeastwheelsevents.com/profile/GerrySorensen
ATTENDEE;ROLE=REQ-PARTICIPANT;PARTSTAT=ACCEPTED;RSVP=TRUE;CN="Martin M
 atthews":https://www.southeastwheelsevents.com/profile/MartinMatthews
ATTENDEE;ROLE=REQ-PARTICIPANT;PARTSTAT=ACCEPTED;RSVP=TRUE;CN="A. G. MA
 TTOCKS":https://www.southeastwheelsevents.com/profile/AGMATTOCKS
ATTENDEE;ROLE=REQ-PARTICIPANT;PARTSTAT=ACCEPTED;RSVP=TRUE;CN="Richard 
 Scott":https://www.southeastwheelsevents.com/profile/RichardScott
ATTENDEE;ROLE=REQ-PARTICIPANT;PARTSTAT=TENTATIVE;RSVP=TRUE;CN=Linda:ht
 tps://www.southeastwheelsevents.com/profile/Linda
ATTENDEE;ROLE=REQ-PARTICIPANT;PARTSTAT=TENTATIVE;RSVP=TRUE;CN="Lenny  
    Major":https://www.southeastwheelsevents.com/profile/LennyMajor
ATTENDEE;ROLE=REQ-PARTICIPANT;PARTSTAT=TENTATIVE;RSVP=TRUE;CN="tom boy
 d":https://www.southeastwheelsevents.com/profile/tomboyd
ATTENDEE;ROLE=REQ-PARTICIPANT;PARTSTAT=TENTATIVE;RSVP=TRUE;CN="steve a
 nd susan seiders":https://www.southeastwheelsevents.com/profile/steves
 eiders
ATTENDEE;ROLE=REQ-PARTICIPANT;PARTSTAT=TENTATIVE;RSVP=TRUE;CN="Roger C
 rummett":https://www.southeastwheelsevents.com/profile/RogerCrummett
ATTENDEE;ROLE=REQ-PARTICIPANT;PARTSTAT=TENTATIVE;RSVP=TRUE;CN="Joe Sny
 der":https://www.southeastwheelsevents.com/profile/JoeSnyder
ATTENDEE;ROLE=REQ-PARTICIPANT;PARTSTAT=TENTATIVE;RSVP=TRUE;CN="Pete St
 ephens":https://www.southeastwheelsevents.com/profile/PeteStephens
ATTENDEE;ROLE=REQ-PARTICIPANT;PARTSTAT=TENTATIVE;RSVP=TRUE;CN="Mike & 
 Beverly Raznoff":https://www.southeastwheelsevents.com/profile/Beverly
 Raznoff
ATTENDEE;ROLE=REQ-PARTICIPANT;PARTSTAT=TENTATIVE;RSVP=TRUE;CN="Ben Scr
 uggs":https://www.southeastwheelsevents.com/profile/BenScruggs
END:VEVENT
END:VCALENDAR
