BEGIN:VCALENDAR
PRODID:NingEventWidget-v1
VERSION:2.0
METHOD:PUBLISH
BEGIN:VTIMEZONE
TZID:Pacific/Midway
X-LIC-LOCATION:Pacific/Midway
BEGIN:STANDARD
TZOFFSETFROM:-1100
TZOFFSETTO:-1100
TZNAME:SST
DTSTART:19700101T000000
END:STANDARD
END:VTIMEZONE
BEGIN:VEVENT
UID:5072275:Event:721290
DTSTAMP:20260419T053933Z
SUMMARY:2017-Models Nashville International Auto Show -Nashville, TN
DESCRIPTION:2017-Models Nashville International Auto Show\nHours\n\nFr
 iday 10 am â€“ 9 pm Saturday 10 am â€“ 9 pm Sunday* 10 am â€“ 5 pm\n\n
 Tickets\n\nBuy now and save!\n\nAdults (13 and over) $10 Senior Citize
 ns (62 and over with ID) $5 Military (All DOD IDâ€™s) $5 Children (7 â
 €“ 12) $5 Children (6 and under) FREE\n\nFamily Day (12 and under)* FR
 EE\n\n*Family Day is Sunday! All children 12 & under admitted FREE on 
 Family Day when accompanied by a paying adult.\n\nReceive a FREE one-y
 ear subscription to Motor Trend magazine with each online ticket order
  or box office purchase.\n\n\nFor more information visit https://www.s
 outheastwheelsevents.com/events/2014-model-nashville-international-aut
 o-show-nashville-tn
DTSTART;TZID=Pacific/Midway:20161114T000000
DTEND;TZID=Pacific/Midway:20161121T235900
CATEGORIES:auto, show
LOCATION:Music City Center
WEBSITE:http://www.motortrendautoshows.com/nashville
URL:http://www.motortrendautoshows.com/nashville
CONTACT:615.259.4730
ORGANIZER:Motor Trend Auto Shows, LLC
ATTACH;FMTTYPE="image/jpeg":http://storage.ning.com/topology/rest/1.0/
 file/get/967586392?profile=original
ATTENDEE;ROLE=REQ-PARTICIPANT;PARTSTAT=ACCEPTED;RSVP=TRUE;CN="Chuck Aa
 ron":https://www.southeastwheelsevents.com/profile/ChuckAaron
END:VEVENT
END:VCALENDAR
