BEGIN:VCALENDAR
PRODID:NingEventWidget-v1
VERSION:2.0
METHOD:PUBLISH
BEGIN:VTIMEZONE
TZID:Pacific/Midway
X-LIC-LOCATION:Pacific/Midway
BEGIN:STANDARD
TZOFFSETFROM:-1100
TZOFFSETTO:-1100
TZNAME:SST
DTSTART:19700101T000000
END:STANDARD
END:VTIMEZONE
BEGIN:VEVENT
UID:5072275:Event:1029870
DTSTAMP:20260425T023756Z
SUMMARY:2017 Fun Run -Oneida, TN
DESCRIPTION:D.A.V. Chapter 91 and American Legion Post 136 of Oneida, 
 Tennessee will host 2017 FUN RUN on Saturday June 17th 2017 at the One
 ida City Park. No judging just fun. Dash Plaques to first 200 entries.
  Drawing for 20 - $50 cash awards. $10 entry fee registration from 9:0
 0 a.m. to 1:00 p.m. est. Awards drawing will begin at 3:00. Entertainm
 ent by dj Iceman. Rain or shine.  Proceeds go to the restoration of t
 he War  Memorial Building fund. Come and enjoy a relaxing day of fun 
 by the lake. For info Bill Boyatt 423-569-8234 or email – bboyatt@hi
 ghland.net\n\nFor more information visit https://www.southeastwheelsev
 ents.com/events/2017-fun-run
DTSTART;TZID=Pacific/Midway:20170617T090000
DTEND;TZID=Pacific/Midway:20170617T150000
CATEGORIES:car, show
LOCATION:Oneida City Park
WEBSITE:
URL:
CONTACT:423-569-8234
ORGANIZER;CN="BILL BOYATT":https://www.southeastwheelsevents.com/profi
 le/BILLBOYATT
ATTACH;FMTTYPE="image/jpeg":
ATTENDEE;ROLE=REQ-PARTICIPANT;PARTSTAT=ACCEPTED;RSVP=TRUE;CN="Chuck Aa
 ron":https://www.southeastwheelsevents.com/profile/ChuckAaron886
ATTENDEE;ROLE=REQ-PARTICIPANT;PARTSTAT=ACCEPTED;RSVP=TRUE;CN="BILL BOY
 ATT":https://www.southeastwheelsevents.com/profile/BILLBOYATT
END:VEVENT
END:VCALENDAR
