BEGIN:VCALENDAR
PRODID:NingEventWidget-v1
VERSION:2.0
METHOD:PUBLISH
BEGIN:VTIMEZONE
TZID:Pacific/Midway
X-LIC-LOCATION:Pacific/Midway
BEGIN:STANDARD
TZOFFSETFROM:-1100
TZOFFSETTO:-1100
TZNAME:SST
DTSTART:19700101T000000
END:STANDARD
END:VTIMEZONE
BEGIN:VEVENT
UID:5072275:Event:1075952
DTSTAMP:20260425T040612Z
SUMMARY:2021 Fun Run -Oneida, TN
DESCRIPTION:D.A.V. Chapter 91 and American Legion Post 136 of Oneida, 
 Tennessee will host 2018 FUN RUN at the Oneida City Park. No judging j
 ust fun. Dash Plaques to first 200 entries. Drawing for 20 - $50 cash 
 awards. $10 entry fee registration from 9:00 a.m. to 1:00 p.m. est. Aw
 ards drawing will begin at 3:00. Entertainment by DJ Iceman. Rain or s
 hine. Proceeds go to the restoration of the War Memorial Building fund
 . Come and enjoy a relaxing day of fun by the lake. \n\nFor more info
 rmation visit https://www.southeastwheelsevents.com/events/2018-fun-ru
 n
DTSTART;TZID=Pacific/Midway:20210619T090000
DTEND;TZID=Pacific/Midway:20210619T150000
CATEGORIES:car, show
LOCATION:Oneida City Park
WEBSITE:
URL:
CONTACT:Donika 4233-286-9500
ORGANIZER:
ATTACH;FMTTYPE="image/jpeg":https://storage.ning.com/topology/rest/1.0
 /file/get/9095265262?profile=original
ATTENDEE;ROLE=REQ-PARTICIPANT;PARTSTAT=ACCEPTED;RSVP=TRUE;CN="BILL BOY
 ATT":https://www.southeastwheelsevents.com/profile/BILLBOYATT
END:VEVENT
END:VCALENDAR
