BEGIN:VCALENDAR
PRODID:NingEventWidget-v1
VERSION:2.0
METHOD:PUBLISH
BEGIN:VTIMEZONE
TZID:Pacific/Midway
X-LIC-LOCATION:Pacific/Midway
BEGIN:STANDARD
TZOFFSETFROM:-1100
TZOFFSETTO:-1100
TZNAME:SST
DTSTART:19700101T000000
END:STANDARD
END:VTIMEZONE
BEGIN:VEVENT
UID:5072275:Event:1079418
DTSTAMP:20260425T011007Z
SUMMARY:2020 Road Atlanta Grand Prix -Braselton, GA
DESCRIPTION:\r\nSVRA is happy to have the opportunity to race at Road 
 Atlanta. After a couple of derailments, the SVRA Road Atlanta Grand Pr
 ix is on the schedule. \r\n\r\nRoad Atlanta’s unique combination of
  fast sweeping corners, quick esses, off-camber turns, elevation chang
 es and high-speed straights makes it a perfect tracl for every variety
  of vintage racer. Bring your vintage race car and add to the tall tal
 es! All SVRA race groups are invited. MG Vintage Racers (MGVR) has sel
 ected this weekend for their 2020 MG Focus Event. An exciting array of
  MGs will add to the memories.\r\nOver the years, Road Atlanta has pla
 yed a significant role in the Can-Am, Trans-Am, Camel GT and Petit Le 
 Mans—always rewarding cars blessed with both power and grip. The Tra
 ns Am presented by Pirelli, Miata Heritage Cup and International GT se
 ries will take advantage of those rewards.\r\nGolf Cart Rentals – Cu
 stom Golf Carts – 678-447-1475\r\nProvisional Test Day Schedule\r\n 
 Provisional Race Schedule\r\n \r\nTrack map\n\nFor more information v
 isit https://www.southeastwheelsevents.com/events/2018-road-atlanta-gr
 and-prix-braselton-ga
DTSTART;TZID=Pacific/Midway:20201120T000000
DTEND;TZID=Pacific/Midway:20201122T235900
CATEGORIES:car, show, vintage, race, touring
LOCATION:Road Atlanta
WEBSITE:https://svra.com/events/2020-road-atlanta-grand-prix/
URL:https://svra.com/events/2020-road-atlanta-grand-prix/
CONTACT:(770) 967-6143, 888-965-SVRA (7872)
ORGANIZER:Sportscar Vintage Racing Association
ATTACH;FMTTYPE="image/jpeg":http://storage.ning.com/topology/rest/1.0/
 file/get/967765304?profile=original
ATTENDEE;ROLE=REQ-PARTICIPANT;PARTSTAT=ACCEPTED;RSVP=TRUE;CN="Chuck Aa
 ron":https://www.southeastwheelsevents.com/profile/ChuckAaron886
ATTENDEE;ROLE=REQ-PARTICIPANT;PARTSTAT=ACCEPTED;RSVP=TRUE;CN="Michael 
 Thies":https://www.southeastwheelsevents.com/profile/MichaelThies
END:VEVENT
END:VCALENDAR
