BEGIN:VCALENDAR
PRODID:NingEventWidget-v1
VERSION:2.0
METHOD:PUBLISH
BEGIN:VTIMEZONE
TZID:Pacific/Midway
X-LIC-LOCATION:Pacific/Midway
BEGIN:STANDARD
TZOFFSETFROM:-1100
TZOFFSETTO:-1100
TZNAME:SST
DTSTART:19700101T000000
END:STANDARD
END:VTIMEZONE
BEGIN:VEVENT
UID:5072275:Event:1109536
DTSTAMP:20260423T200322Z
SUMMARY:Wiggle and Twist Festival Car Show - Wrightsville, GA
DESCRIPTION: Wiggle and Twist Festival Car Show, \r\n\n\nFor more in
 formation visit https://www.southeastwheelsevents.com/events/2018-wigg
 le-and-twist-festival-car-show-wrightsville-ga
DTSTART;TZID=Pacific/Midway:20221015T090000
DTEND;TZID=Pacific/Midway:20221015T160000
CATEGORIES:car, show, cruise, in
LOCATION:Courthouse
WEBSITE:https://www.facebook.com/pages/category/Community-Organization
 /Wrightsville-American-Legion-Post-44-159564414544290/
URL:https://www.facebook.com/pages/category/Community-Organization/Wri
 ghtsville-American-Legion-Post-44-159564414544290/
CONTACT:(478) 864-7200
ORGANIZER:
ATTACH;FMTTYPE="image/jpeg":http://storage.ning.com/topology/rest/1.0/
 file/get/967804729?profile=original
ATTENDEE;ROLE=REQ-PARTICIPANT;PARTSTAT=ACCEPTED;RSVP=TRUE;CN="Anthony 
 Hopkins":https://www.southeastwheelsevents.com/profile/AnthonyHopkins
END:VEVENT
END:VCALENDAR
