BEGIN:VCALENDAR
PRODID:NingEventWidget-v1
VERSION:2.0
METHOD:PUBLISH
BEGIN:VTIMEZONE
TZID:Pacific/Midway
X-LIC-LOCATION:Pacific/Midway
BEGIN:STANDARD
TZOFFSETFROM:-1100
TZOFFSETTO:-1100
TZNAME:SST
DTSTART:19700101T000000
END:STANDARD
END:VTIMEZONE
BEGIN:VEVENT
UID:5072275:Event:1141459
DTSTAMP:20260422T225416Z
SUMMARY:2019 Atlanta Ride for Kids
DESCRIPTION: The Pediatric Brain Tumor Foundation's Charity Ride for 
 Kids is the longest-running, most successful motorcycle charity event 
 in the country. Since 1984, it has fueled lifesaving research and fami
 ly support programs for children and teens with brain tumors.\nJoin us
  for a scenic, police-escorted motorcycle ride from Cumming Fairground
 s along with local pediatric brain tumor survivors. Any make or model 
 of street legal motorcycle is welcome, and food and entertainment are 
 available for the entire family.\nKICKSTANDS UP 11:00 a.m. RAIN OR SHI
 NE\nREGISTRATION $40.00 ONLINE  $45.00 DAY OF THE EVENT.  ONLINE REG
 ISTRATION CLOSES AT NOON ON FRIDAY BEFORE THE EVENT\nREGISTER ONLINE A
 ND SAVE! Online registration will close the Friday, May 31, at noon lo
 cal time. Day-of registration will be available at the event. All atte
 ndees have the opportunity to fundraise. The more you raise, the close
 r we get to a cure.\nCLICK HERE FOR REGISTRATION AND INFORMATION or vi
 sit www.rideforkids.org\n Host Hotel: Holiday Inn Express, 870 Buford
  Highway, Cumming, GA 30041.\n SPONSORS:  American Honda, Cycle Worl
 d, American Motorcyclist Association.\nBecome a local or National Spon
 sor. Email support@rideforkids.org for information\n \n\nFor more inf
 ormation visit https://www.southeastwheelsevents.com/events/2019-atlan
 ta-ride-for-kids-1
DTSTART;TZID=Pacific/Midway:20190602T080000
DTEND;TZID=Pacific/Midway:20190602T140000
CATEGORIES:fundraiser, charity, motorcycle, ride
LOCATION:Cumming Fairground
WEBSITE:https://www.google.com/maps/place/Cumming+Fairgrounds/@34.2010
 874,-84.1438362,17.06z/data=!4m5!3m4!1s0x88f585262b7a9f1b:0x36ed19ace7
 e7f0e3!8m2!3d34.2030469!4d-84.1425128
URL:https://www.google.com/maps/place/Cumming+Fairgrounds/@34.2010874,
 -84.1438362,17.06z/data=!4m5!3m4!1s0x88f585262b7a9f1b:0x36ed19ace7e7f0
 e3!8m2!3d34.2030469!4d-84.1425128
CONTACT:404-386-8599
ORGANIZER:Jay Haller
ATTACH;FMTTYPE="image/jpeg":https://storage.ning.com/topology/rest/1.0
 /file/get/833264141?profile=original
ATTENDEE;ROLE=REQ-PARTICIPANT;PARTSTAT=ACCEPTED;RSVP=TRUE;CN="Harold K
 elman":https://www.southeastwheelsevents.com/profile/HaroldKelman643
END:VEVENT
END:VCALENDAR
