BEGIN:VCALENDAR
PRODID:NingEventWidget-v1
VERSION:2.0
METHOD:PUBLISH
BEGIN:VTIMEZONE
TZID:Pacific/Midway
X-LIC-LOCATION:Pacific/Midway
BEGIN:STANDARD
TZOFFSETFROM:-1100
TZOFFSETTO:-1100
TZNAME:SST
DTSTART:19700101T000000
END:STANDARD
END:VTIMEZONE
BEGIN:VEVENT
UID:5072275:Event:1237526
DTSTAMP:20260422T143123Z
SUMMARY:2022 Loganville Cruisers Show Schedule
DESCRIPTION:\n\nFor more information visit https://www.southeastwheels
 events.com/events/2022-loganville-cruisers-show-schedule-4
DTSTART;TZID=Pacific/Midway:20221210T130000
DTEND;TZID=Pacific/Midway:20221210T170000
CATEGORIES:car, show, -, cruise, in
LOCATION:NAPA Auto Parts
WEBSITE:
URL:
CONTACT:
ORGANIZER:Loganville Cruisers
ATTACH;FMTTYPE="image/jpeg":https://storage.ning.com/topology/rest/1.0
 /file/get/10757105701?profile=original
ATTENDEE;ROLE=REQ-PARTICIPANT;PARTSTAT=TENTATIVE;RSVP=TRUE;CN="Jeffrey
  Rutherford":https://www.southeastwheelsevents.com/profile/JeffreyRuth
 erford866
END:VEVENT
END:VCALENDAR
