BEGIN:VCALENDAR
PRODID:NingEventWidget-v1
VERSION:2.0
METHOD:PUBLISH
BEGIN:VTIMEZONE
TZID:Pacific/Midway
X-LIC-LOCATION:Pacific/Midway
BEGIN:STANDARD
TZOFFSETFROM:-1100
TZOFFSETTO:-1100
TZNAME:SST
DTSTART:19700101T000000
END:STANDARD
END:VTIMEZONE
BEGIN:VEVENT
UID:5072275:Event:1270969
DTSTAMP:20260423T180504Z
SUMMARY:2025 Scholars &amp; Cars Car Show Norcross GA
DESCRIPTION:Hopewell Men’s Ministry presents 2025 Scholars & Cars Ca
 r Show Saturday October 18 11am-03pm  benefiting  the Dunnigan/ Jaco
 bs Scholarship Fund.\nPrizes; Food; Music Sponsors and Vendors Informa
 tion 770-448-5475\n\nFor more information visit https://www.southeastw
 heelsevents.com/events/2025-scholars-amp-cars-car-show-norcross-ga
DTSTART;TZID=Pacific/Midway:20251018T110000
DTEND;TZID=Pacific/Midway:20251018T150000
CATEGORIES:"dunnigan/jacobs", scholarship, fundraiser
LOCATION:Hopewell Missionary Baptist Church Parking Lot
WEBSITE:http://http:/hmbchurch.net
URL:http://http:/hmbchurch.net
CONTACT:770-448-5475
ORGANIZER;CN="Thomas Taylor":https://www.southeastwheelsevents.com/pro
 file/ThomasTaylor
ATTACH;FMTTYPE="image/jpeg":
ATTENDEE;ROLE=REQ-PARTICIPANT;PARTSTAT=ACCEPTED;RSVP=TRUE;CN="Thomas T
 aylor":https://www.southeastwheelsevents.com/profile/ThomasTaylor
END:VEVENT
END:VCALENDAR
