BEGIN:VCALENDAR
PRODID:NingEventWidget-v1
VERSION:2.0
METHOD:PUBLISH
BEGIN:VTIMEZONE
TZID:Pacific/Midway
X-LIC-LOCATION:Pacific/Midway
BEGIN:STANDARD
TZOFFSETFROM:-1100
TZOFFSETTO:-1100
TZNAME:SST
DTSTART:19700101T000000
END:STANDARD
END:VTIMEZONE
BEGIN:VEVENT
UID:5072275:Event:1270742
DTSTAMP:20260423T153048Z
SUMMARY:2025 Scholars 'n Cars Car Show -Norcross, GA
DESCRIPTION:www.dandjfoundation.org WWW Early $25 per Same day $30 per
  rOn PRIZES FOOD MUSIC TO BENEFIT THE DUNNIGAN JACOBS SCHOLARSHIP FUND
  SPONSORS AND VENDORS INFORMATION 770-448-5475 182 HUNTER STREET NORCR
 OSS, GA‎'‎‎\" /> 🚗 Hopewell Men’s Ministry Presents: 2025 S
 cholars & Cars Car Show 🎓🏁\r\n\r\nBenefiting the Dunnigan/Jacobs
  Scholarship Fund\r\n\r\n📅 Date: Saturday, October 18, 2025 🕚 Ti
 me: 11:00 AM – 3:00 PM 📍 Location: Hopewell Missionary Baptist Ch
 urch Grounds 182 Hunter Street, Norcross, GA ☎️ Contact: 770-448-5
 475 🌐 Register\r\n\r\nStart your engines for an afternoon of cars, 
 community, and scholarship! The Hopewell Men’s Ministry proudly pres
 ents the 2025 Scholars & Cars Car Show — where horsepower meets high
 er purpose. Every shine, rev, and registration supports the Dunnigan/J
 acobs Scholarship Fund, empowering young scholars in our community.\r\
 nExpect a vibrant day filled with classic cars, custom builds, live mu
 sic, food vendors, prizes, and fellowship. Bring your family, your fri
 ends, and your favorite ride — it’s all for a great cause!\r\n💵
  Registration & Fees\r\n\r\nEarly Registration: $35.00\r\nRace Day Reg
 istration: $35.00\r\n\r\n🏆 Trophies Awarded: Best in Show • Peopl
 e’s Choice • Top Class Winners\r\n\r\n🎉 Event Highlights\r\n\r\
 n🚘 All Makes & Models Welcome! From muscle cars to imports — if i
 t rolls, it belongs.\r\n🎶 Live DJ & Music — great tunes all day l
 ong.\r\n🍔 Food Vendors & Refreshments — come hungry and leave hap
 py.\r\n🎁 Raffles • Prizes • Family Fun\r\n🙏 Faith, Fellowshi
 p & Community — celebrating purpose with passion.\r\n\r\n\r\n💛 Ou
 r Purpose\r\nAll proceeds go directly to the Dunnigan/Jacobs Scholarsh
 ip Fund, an initiative of the Hopewell Men’s Ministry dedicated to h
 elping deserving students pursue higher education. Your participation 
 helps build brighter futures — one car, one student, one community a
 t a time.\r\n\r\n📣 Sponsors & Vendors\r\nInterested in becoming a s
 ponsor or vendor? Call 770-448-5475 for partnership details. Your supp
 ort makes a lasting impact and connects your business with the local c
 ommunity.\r\n👉 Bring your passion, bring your ride, and make a diff
 erence — one car at a time! www.dandjfoundation.org\n\nFor more info
 rmation visit https://www.southeastwheelsevents.com/events/2025-schola
 rs-amp-cars-car-show
DTSTART;TZID=Pacific/Midway:20251018T110000
DTEND;TZID=Pacific/Midway:20251018T150000
CATEGORIES:"dunnigan/jacobs", sholarship, fundraiser
LOCATION:Hopewell Missionary Baptist Church Parking Lot
WEBSITE:https://www.dandjfoundation.org/
URL:https://www.dandjfoundation.org/
CONTACT:770-448-5475
ORGANIZER:Hopewell Men's Ministry
ATTACH;FMTTYPE="image/jpeg":https://storage.ning.com/topology/rest/1.0
 /file/get/13735590859?profile=original
ATTENDEE;ROLE=REQ-PARTICIPANT;PARTSTAT=ACCEPTED;RSVP=TRUE;CN="Thomas T
 aylor":https://www.southeastwheelsevents.com/profile/ThomasTaylor
END:VEVENT
END:VCALENDAR
