BEGIN:VCALENDAR
PRODID:NingEventWidget-v1
VERSION:2.0
METHOD:PUBLISH
BEGIN:VTIMEZONE
TZID:Pacific/Midway
X-LIC-LOCATION:Pacific/Midway
BEGIN:STANDARD
TZOFFSETFROM:-1100
TZOFFSETTO:-1100
TZNAME:SST
DTSTART:19700101T000000
END:STANDARD
END:VTIMEZONE
BEGIN:VEVENT
UID:5072275:Event:1269931
DTSTAMP:20260421T220008Z
SUMMARY:2026 Lula Car Show &amp; BBQ Competition Lula, GA
DESCRIPTION:Come join the Historical Society of Lula Bellton, GA for t
 he 2026 Annual Lula Car Show. We invite vehicles of all ages, brands, 
 types out for a fun day with Trophies, Door Prizes and a 50/50 Drawing
 . There are also Craft, Food and Kids Activity Vendors. It's a day out
  for the whole family. June 6th, 2026, from 8am-2pm. Registration star
 ts at 7am in person only.\nSince this year's Car Show is during the 15
 0Year Celebration of Lula there is also a BBQ Competition. Think you c
 an cook the best BBQ? Come prove it! For more details email us at cars
 how@lulabellton.com\n\n2026 Lula Car Show & BBQ Competition - Vendor
  Application  – Fill out form\n2026 Lula Car Show& BBQ Competition 
 - BBQ Competition Entry – Fill out form\n\nFor more information visi
 t https://www.southeastwheelsevents.com/events/2026-lula-car-show-lula
 -ga
DTSTART;TZID=Pacific/Midway:20260606T080000
DTEND;TZID=Pacific/Midway:20260606T140000
CATEGORIES:car, show, fundraiser, bbq, nonprofit
LOCATION:Rafe Banks Baseball Park in Lula, GA
WEBSITE:http://www.facebook.com/groups/lulacarshow/
URL:http://www.facebook.com/groups/lulacarshow/
CONTACT:6786686682
ORGANIZER;CN="Juliette Talley Roberts":https://www.southeastwheelseven
 ts.com/profile/JulietteTalleyRoberts
ATTACH;FMTTYPE="image/jpeg":https://storage.ning.com/topology/rest/1.0
 /file/get/31092819255?profile=original
ATTENDEE;ROLE=REQ-PARTICIPANT;PARTSTAT=ACCEPTED;RSVP=TRUE;CN="Juliette
  Talley Roberts":https://www.southeastwheelsevents.com/profile/Juliett
 eTalleyRoberts
END:VEVENT
END:VCALENDAR
